BEGIN:VCALENDAR
VERSION:2.0
PRODID:-//Eastern New Mexico University - Roswell - ECPv6.15.18//NONSGML v1.0//EN
CALSCALE:GREGORIAN
METHOD:PUBLISH
X-WR-CALNAME:Eastern New Mexico University - Roswell
X-ORIGINAL-URL:https://www.roswell.enmu.edu
X-WR-CALDESC:Events for Eastern New Mexico University - Roswell
REFRESH-INTERVAL;VALUE=DURATION:PT1H
X-Robots-Tag:noindex
X-PUBLISHED-TTL:PT1H
BEGIN:VTIMEZONE
TZID:America/Denver
BEGIN:DAYLIGHT
TZOFFSETFROM:-0700
TZOFFSETTO:-0600
TZNAME:MDT
DTSTART:20250309T090000
END:DAYLIGHT
BEGIN:STANDARD
TZOFFSETFROM:-0600
TZOFFSETTO:-0700
TZNAME:MST
DTSTART:20251102T080000
END:STANDARD
BEGIN:DAYLIGHT
TZOFFSETFROM:-0700
TZOFFSETTO:-0600
TZNAME:MDT
DTSTART:20260308T090000
END:DAYLIGHT
BEGIN:STANDARD
TZOFFSETFROM:-0600
TZOFFSETTO:-0700
TZNAME:MST
DTSTART:20261101T080000
END:STANDARD
BEGIN:DAYLIGHT
TZOFFSETFROM:-0700
TZOFFSETTO:-0600
TZNAME:MDT
DTSTART:20270314T090000
END:DAYLIGHT
BEGIN:STANDARD
TZOFFSETFROM:-0600
TZOFFSETTO:-0700
TZNAME:MST
DTSTART:20271107T080000
END:STANDARD
END:VTIMEZONE
BEGIN:VEVENT
DTSTART;VALUE=DATE:20260706
DTEND;VALUE=DATE:20260711
DTSTAMP:20260421T161019
CREATED:20260218T184332Z
LAST-MODIFIED:20260218T193446Z
UID:10000520-1783296000-1783727999@www.roswell.enmu.edu
SUMMARY:Kids Kollege
DESCRIPTION:Build It. Imagine It. Become It. \n$60 USD Admission Fee \nClass Line Up \n\nLego Logo (ages 8-12)\, 9:00 – ll:00 AM & 2:00 – 4:00 PM\nLego Mania (ages 4-7)\, 11:30 AM – 1:30 PM\nLego Designer (ages 5-8)\, 11:30 AM – 1:30 PM\nLego Expert (ages 9-13)\, 2:00 PM – 4:00 PM
URL:https://www.roswell.enmu.edu/event/2026-07-06-10__kids-kollege/
LOCATION:ENMU-Roswell OTC 118\, 20 West Mathis Street\, Roswell\, NM\, 88203\, United States
ATTACH;FMTTYPE=image/webp:https://www.roswell.enmu.edu/wp-content/uploads/2026/02/1.webp
ORGANIZER;CN="Chris Bullard":MAILTO:brandon.bullard@enmu.edu
END:VEVENT
END:VCALENDAR