BEGIN:VCALENDAR
VERSION:2.0
PRODID:-//Eastern New Mexico University - Roswell - ECPv6.15.18//NONSGML v1.0//EN
CALSCALE:GREGORIAN
METHOD:PUBLISH
X-ORIGINAL-URL:https://www.roswell.enmu.edu
X-WR-CALDESC:Events for Eastern New Mexico University - Roswell
REFRESH-INTERVAL;VALUE=DURATION:PT1H
X-Robots-Tag:noindex
X-PUBLISHED-TTL:PT1H
BEGIN:VTIMEZONE
TZID:America/Denver
BEGIN:DAYLIGHT
TZOFFSETFROM:-0700
TZOFFSETTO:-0600
TZNAME:MDT
DTSTART:20250309T090000
END:DAYLIGHT
BEGIN:STANDARD
TZOFFSETFROM:-0600
TZOFFSETTO:-0700
TZNAME:MST
DTSTART:20251102T080000
END:STANDARD
BEGIN:DAYLIGHT
TZOFFSETFROM:-0700
TZOFFSETTO:-0600
TZNAME:MDT
DTSTART:20260308T090000
END:DAYLIGHT
BEGIN:STANDARD
TZOFFSETFROM:-0600
TZOFFSETTO:-0700
TZNAME:MST
DTSTART:20261101T080000
END:STANDARD
BEGIN:DAYLIGHT
TZOFFSETFROM:-0700
TZOFFSETTO:-0600
TZNAME:MDT
DTSTART:20270314T090000
END:DAYLIGHT
BEGIN:STANDARD
TZOFFSETFROM:-0600
TZOFFSETTO:-0700
TZNAME:MST
DTSTART:20271107T080000
END:STANDARD
END:VTIMEZONE
BEGIN:VEVENT
DTSTART;TZID=America/Denver:20260429T110000
DTEND;TZID=America/Denver:20260429T123000
DTSTAMP:20260424T175520
CREATED:20260424T172920Z
LAST-MODIFIED:20260424T172920Z
UID:10000559-1777460400-1777465800@www.roswell.enmu.edu
SUMMARY:Am I Cheating?
DESCRIPTION:A.I. Policy and Research Showcase \nJoin us Wednesday and Thursday at the ITC Commons for an insightful two-day showcase exploring the evolving role of Artificial Intelligence in academia. As AI continues to reshape the educational landscape\, this event serves as a vital platform for students and faculty to align on expectations\, ethics\, and innovation. \nWhat to Expect: \n\nCollaborative Dialogue: Engage in open conversations between teachers and students regarding AI integration.\nPolicy Clarity: Gain a clear understanding of the boundary between “acceptable AI assistance” and academic dishonesty.\nResearch-Backed Solutions: Explore strategies to preserve and enhance creativity\, critical thinking\, and communication skills in an automated world.
URL:https://www.roswell.enmu.edu/event/am-i-cheating/2026-04-29/
LOCATION:ENMU-Roswell ITC Commons\, 23 W. Mathis St.\, Roswell\, NM\, 88203\, United States
ATTACH;FMTTYPE=image/webp:https://www.roswell.enmu.edu/wp-content/uploads/2026/04/A.I-Policy-and-Research-Showcase-Poster-1024px.webp
ORGANIZER;CN="Sarah Treschl":MAILTO:sarah.treschl@enmu.edu
END:VEVENT
BEGIN:VEVENT
DTSTART;TZID=America/Denver:20260430T093000
DTEND;TZID=America/Denver:20260430T123000
DTSTAMP:20260424T175520
CREATED:20260424T172920Z
LAST-MODIFIED:20260424T172920Z
UID:10000560-1777541400-1777552200@www.roswell.enmu.edu
SUMMARY:Am I Cheating?
DESCRIPTION:A.I. Policy and Research Showcase \nJoin us Wednesday and Thursday at the ITC Commons for an insightful two-day showcase exploring the evolving role of Artificial Intelligence in academia. As AI continues to reshape the educational landscape\, this event serves as a vital platform for students and faculty to align on expectations\, ethics\, and innovation. \nWhat to Expect: \n\nCollaborative Dialogue: Engage in open conversations between teachers and students regarding AI integration.\nPolicy Clarity: Gain a clear understanding of the boundary between “acceptable AI assistance” and academic dishonesty.\nResearch-Backed Solutions: Explore strategies to preserve and enhance creativity\, critical thinking\, and communication skills in an automated world.
URL:https://www.roswell.enmu.edu/event/am-i-cheating/2026-04-30/
LOCATION:ENMU-Roswell ITC Commons\, 23 W. Mathis St.\, Roswell\, NM\, 88203\, United States
ATTACH;FMTTYPE=image/webp:https://www.roswell.enmu.edu/wp-content/uploads/2026/04/A.I-Policy-and-Research-Showcase-Poster-1024px.webp
ORGANIZER;CN="Sarah Treschl":MAILTO:sarah.treschl@enmu.edu
END:VEVENT
END:VCALENDAR