BEGIN:VCALENDAR
VERSION:2.0
PRODID:-//Eastern New Mexico University - Roswell - ECPv6.15.18//NONSGML v1.0//EN
CALSCALE:GREGORIAN
METHOD:PUBLISH
X-ORIGINAL-URL:https://www.roswell.enmu.edu
X-WR-CALDESC:Events for Eastern New Mexico University - Roswell
REFRESH-INTERVAL;VALUE=DURATION:PT1H
X-Robots-Tag:noindex
X-PUBLISHED-TTL:PT1H
BEGIN:VTIMEZONE
TZID:America/Denver
BEGIN:DAYLIGHT
TZOFFSETFROM:-0700
TZOFFSETTO:-0600
TZNAME:MDT
DTSTART:20250309T090000
END:DAYLIGHT
BEGIN:STANDARD
TZOFFSETFROM:-0600
TZOFFSETTO:-0700
TZNAME:MST
DTSTART:20251102T080000
END:STANDARD
BEGIN:DAYLIGHT
TZOFFSETFROM:-0700
TZOFFSETTO:-0600
TZNAME:MDT
DTSTART:20260308T090000
END:DAYLIGHT
BEGIN:STANDARD
TZOFFSETFROM:-0600
TZOFFSETTO:-0700
TZNAME:MST
DTSTART:20261101T080000
END:STANDARD
BEGIN:DAYLIGHT
TZOFFSETFROM:-0700
TZOFFSETTO:-0600
TZNAME:MDT
DTSTART:20270314T090000
END:DAYLIGHT
BEGIN:STANDARD
TZOFFSETFROM:-0600
TZOFFSETTO:-0700
TZNAME:MST
DTSTART:20271107T080000
END:STANDARD
END:VTIMEZONE
BEGIN:VEVENT
DTSTART;TZID=America/Denver:20260428T123000
DTEND;TZID=America/Denver:20260428T143000
DTSTAMP:20260419T180718
CREATED:20260320T183709Z
LAST-MODIFIED:20260320T183746Z
UID:10000538-1777379400-1777386600@www.roswell.enmu.edu
SUMMARY:Spring 2026 Self Registration Workshop
DESCRIPTION:Learn how to build your schedule & complete registration \nJoin our Self-Registration workshop and learn how to confidently build your schedule and complete your class registration on your own. Please note that students must be eligible to register in order to successfully sign up for classes during the workshop.
URL:https://www.roswell.enmu.edu/event/2026-04-28__self-registration-workshop/
LOCATION:ENMU-Roswell ITC RM 110\, 58A University Blvd.\, Roswell\, NM\, 88203\, United States
ATTACH;FMTTYPE=image/webp:https://www.roswell.enmu.edu/wp-content/uploads/2026/03/Self-Registration-Workshop-Instagram-Post-45.webp
ORGANIZER;CN="Alyssa Wentland":MAILTO:alyssa.wentland@enmu.edu
END:VEVENT
END:VCALENDAR