BEGIN:VCALENDAR
VERSION:2.0
PRODID:-//Eastern New Mexico University - Roswell - ECPv6.15.18//NONSGML v1.0//EN
CALSCALE:GREGORIAN
METHOD:PUBLISH
X-WR-CALNAME:Eastern New Mexico University - Roswell
X-ORIGINAL-URL:https://www.roswell.enmu.edu
X-WR-CALDESC:Events for Eastern New Mexico University - Roswell
REFRESH-INTERVAL;VALUE=DURATION:PT1H
X-Robots-Tag:noindex
X-PUBLISHED-TTL:PT1H
BEGIN:VTIMEZONE
TZID:America/Denver
BEGIN:DAYLIGHT
TZOFFSETFROM:-0700
TZOFFSETTO:-0600
TZNAME:MDT
DTSTART:20240310T090000
END:DAYLIGHT
BEGIN:STANDARD
TZOFFSETFROM:-0600
TZOFFSETTO:-0700
TZNAME:MST
DTSTART:20241103T080000
END:STANDARD
BEGIN:DAYLIGHT
TZOFFSETFROM:-0700
TZOFFSETTO:-0600
TZNAME:MDT
DTSTART:20250309T090000
END:DAYLIGHT
BEGIN:STANDARD
TZOFFSETFROM:-0600
TZOFFSETTO:-0700
TZNAME:MST
DTSTART:20251102T080000
END:STANDARD
BEGIN:DAYLIGHT
TZOFFSETFROM:-0700
TZOFFSETTO:-0600
TZNAME:MDT
DTSTART:20260308T090000
END:DAYLIGHT
BEGIN:STANDARD
TZOFFSETFROM:-0600
TZOFFSETTO:-0700
TZNAME:MST
DTSTART:20261101T080000
END:STANDARD
BEGIN:DAYLIGHT
TZOFFSETFROM:-0700
TZOFFSETTO:-0600
TZNAME:MDT
DTSTART:20270314T090000
END:DAYLIGHT
BEGIN:STANDARD
TZOFFSETFROM:-0600
TZOFFSETTO:-0700
TZNAME:MST
DTSTART:20271107T080000
END:STANDARD
END:VTIMEZONE
BEGIN:VEVENT
DTSTART;VALUE=DATE:20260304
DTEND;VALUE=DATE:20260307
DTSTAMP:20260423T021711
CREATED:20250618T005902Z
LAST-MODIFIED:20250618T005953Z
UID:10000354-1772582400-1772841599@www.roswell.enmu.edu
SUMMARY:Final Exams and Assessments (Spring 2026)
DESCRIPTION:
URL:https://www.roswell.enmu.edu/event/2026-spring-final-exams-assessments/
END:VEVENT
BEGIN:VEVENT
DTSTART;VALUE=DATE:20260302
DTEND;VALUE=DATE:20260307
DTSTAMP:20260423T021711
CREATED:20250618T003845Z
LAST-MODIFIED:20250618T003845Z
UID:10000344-1772409600-1772841599@www.roswell.enmu.edu
SUMMARY:Midterm Exams - 16-Week Session (Spring 2026)
DESCRIPTION:
URL:https://www.roswell.enmu.edu/event/2026-spring-midterm-exams-16-week-session/
END:VEVENT
BEGIN:VEVENT
DTSTART;VALUE=DATE:20251208
DTEND;VALUE=DATE:20251211
DTSTAMP:20260423T021711
CREATED:20250617T170137Z
LAST-MODIFIED:20250617T170244Z
UID:10000332-1765152000-1765411199@www.roswell.enmu.edu
SUMMARY:Final Exams and Assessments (Fall 2025)
DESCRIPTION:Final Exams will be held Monday through Wednesday
URL:https://www.roswell.enmu.edu/event/2025-fall-final-exams-and-assessments/
END:VEVENT
BEGIN:VEVENT
DTSTART;VALUE=DATE:20251006
DTEND;VALUE=DATE:20251011
DTSTAMP:20260423T021711
CREATED:20250617T162732Z
LAST-MODIFIED:20250617T162732Z
UID:10000321-1759708800-1760140799@www.roswell.enmu.edu
SUMMARY:Midterm Exams - 16-Week Session
DESCRIPTION:Fall 2025 Midterm Exams week
URL:https://www.roswell.enmu.edu/event/2025-midterm-exams-16-week-session-2/
END:VEVENT
BEGIN:VEVENT
DTSTART;VALUE=DATE:20250721
DTEND;VALUE=DATE:20250726
DTSTAMP:20260423T021711
CREATED:20240731T230204Z
LAST-MODIFIED:20240731T230204Z
UID:10000106-1753056000-1753487999@www.roswell.enmu.edu
SUMMARY:Final Exams - 8 Week Session
DESCRIPTION:
URL:https://www.roswell.enmu.edu/event/final-exams-8-week-session/
END:VEVENT
END:VCALENDAR