BEGIN:VCALENDAR
VERSION:2.0
PRODID:-//Eastern New Mexico University - Roswell - ECPv6.15.18//NONSGML v1.0//EN
CALSCALE:GREGORIAN
METHOD:PUBLISH
X-ORIGINAL-URL:https://www.roswell.enmu.edu
X-WR-CALDESC:Events for Eastern New Mexico University - Roswell
REFRESH-INTERVAL;VALUE=DURATION:PT1H
X-Robots-Tag:noindex
X-PUBLISHED-TTL:PT1H
BEGIN:VTIMEZONE
TZID:America/Denver
BEGIN:DAYLIGHT
TZOFFSETFROM:-0700
TZOFFSETTO:-0600
TZNAME:MDT
DTSTART:20250309T090000
END:DAYLIGHT
BEGIN:STANDARD
TZOFFSETFROM:-0600
TZOFFSETTO:-0700
TZNAME:MST
DTSTART:20251102T080000
END:STANDARD
BEGIN:DAYLIGHT
TZOFFSETFROM:-0700
TZOFFSETTO:-0600
TZNAME:MDT
DTSTART:20260308T090000
END:DAYLIGHT
BEGIN:STANDARD
TZOFFSETFROM:-0600
TZOFFSETTO:-0700
TZNAME:MST
DTSTART:20261101T080000
END:STANDARD
BEGIN:DAYLIGHT
TZOFFSETFROM:-0700
TZOFFSETTO:-0600
TZNAME:MDT
DTSTART:20270314T090000
END:DAYLIGHT
BEGIN:STANDARD
TZOFFSETFROM:-0600
TZOFFSETTO:-0700
TZNAME:MST
DTSTART:20271107T080000
END:STANDARD
END:VTIMEZONE
BEGIN:VEVENT
DTSTART;TZID=America/Denver:20260522T080000
DTEND;TZID=America/Denver:20260522T170000
DTSTAMP:20260419T154537
CREATED:20260323T191509Z
LAST-MODIFIED:20260323T191509Z
UID:10000543-1779436800-1779469200@www.roswell.enmu.edu
SUMMARY:Exploring MIG Welding Workshop
DESCRIPTION:Metal Inert Gas (MIG) welding is a popular welding process that uses a continuous wire electrode fed through a welding gun to join metal pieces together. MIG Welding is widely used in manufacturing\, construction\, and automotive work because it is efficient\, easy to learn\, and produces high-quality results. \nThis workshop will be held at the ENMU-Roswell Welding Shop \n78 University Blvd.\nRoswell\, NM 88203 \nThis all-day workshop is limited to 10 available seats and has an entry fee of $60 USD / person. \nFor more information\, please contact Chris Bullard\, brandon.bullard@enmu.edu |
URL:https://www.roswell.enmu.edu/event/2026-05-22_-_exploring-mig-welding-workshop/2026-05-22/
LOCATION:ENMU-Roswell Welding Shop\, 78 University Blvd.\, Roswell\, NM\, 88203\, United States
ATTACH;FMTTYPE=image/webp:https://www.roswell.enmu.edu/wp-content/uploads/2026/03/Exploring-MIG-Welding-workshop-Instagram-Post-45.webp
ORGANIZER;CN="Chris Bullard":MAILTO:brandon.bullard@enmu.edu
END:VEVENT
BEGIN:VEVENT
DTSTART;TZID=America/Denver:20260523T080000
DTEND;TZID=America/Denver:20260523T170000
DTSTAMP:20260419T154537
CREATED:20260323T191509Z
LAST-MODIFIED:20260323T191509Z
UID:10000544-1779523200-1779555600@www.roswell.enmu.edu
SUMMARY:Exploring MIG Welding Workshop
DESCRIPTION:Metal Inert Gas (MIG) welding is a popular welding process that uses a continuous wire electrode fed through a welding gun to join metal pieces together. MIG Welding is widely used in manufacturing\, construction\, and automotive work because it is efficient\, easy to learn\, and produces high-quality results. \nThis workshop will be held at the ENMU-Roswell Welding Shop \n78 University Blvd.\nRoswell\, NM 88203 \nThis all-day workshop is limited to 10 available seats and has an entry fee of $60 USD / person. \nFor more information\, please contact Chris Bullard\, brandon.bullard@enmu.edu |
URL:https://www.roswell.enmu.edu/event/2026-05-22_-_exploring-mig-welding-workshop/2026-05-23/
LOCATION:ENMU-Roswell Welding Shop\, 78 University Blvd.\, Roswell\, NM\, 88203\, United States
ATTACH;FMTTYPE=image/webp:https://www.roswell.enmu.edu/wp-content/uploads/2026/03/Exploring-MIG-Welding-workshop-Instagram-Post-45.webp
ORGANIZER;CN="Chris Bullard":MAILTO:brandon.bullard@enmu.edu
END:VEVENT
END:VCALENDAR