BEGIN:VCALENDAR
VERSION:2.0
PRODID:-//Eastern New Mexico University - Roswell - ECPv6.15.18//NONSGML v1.0//EN
CALSCALE:GREGORIAN
METHOD:PUBLISH
X-ORIGINAL-URL:https://www.roswell.enmu.edu
X-WR-CALDESC:Events for Eastern New Mexico University - Roswell
REFRESH-INTERVAL;VALUE=DURATION:PT1H
X-Robots-Tag:noindex
X-PUBLISHED-TTL:PT1H
BEGIN:VTIMEZONE
TZID:America/Denver
BEGIN:DAYLIGHT
TZOFFSETFROM:-0700
TZOFFSETTO:-0600
TZNAME:MDT
DTSTART:20250309T090000
END:DAYLIGHT
BEGIN:STANDARD
TZOFFSETFROM:-0600
TZOFFSETTO:-0700
TZNAME:MST
DTSTART:20251102T080000
END:STANDARD
BEGIN:DAYLIGHT
TZOFFSETFROM:-0700
TZOFFSETTO:-0600
TZNAME:MDT
DTSTART:20260308T090000
END:DAYLIGHT
BEGIN:STANDARD
TZOFFSETFROM:-0600
TZOFFSETTO:-0700
TZNAME:MST
DTSTART:20261101T080000
END:STANDARD
BEGIN:DAYLIGHT
TZOFFSETFROM:-0700
TZOFFSETTO:-0600
TZNAME:MDT
DTSTART:20270314T090000
END:DAYLIGHT
BEGIN:STANDARD
TZOFFSETFROM:-0600
TZOFFSETTO:-0700
TZNAME:MST
DTSTART:20271107T080000
END:STANDARD
END:VTIMEZONE
BEGIN:VEVENT
DTSTART;TZID=America/Denver:20260713T090000
DTEND;TZID=America/Denver:20260716T160000
DTSTAMP:20260423T034345
CREATED:20260401T233951Z
LAST-MODIFIED:20260401T234255Z
UID:10000548-1783933200-1784217600@www.roswell.enmu.edu
SUMMARY:Blackrocket Camp
DESCRIPTION:2026 BLACKROCKET SUMMER CAMP\nJuly 13–16\nJuly 20–23 \nJuly 13–16\n9 AM–Noon\nPokémon Masters: Designers & 3D Makers Unite! \n1–4 PM\nRoblox Makers \nJuly 20–23\, 2026\n9 AM–Noon\nA.I. Designers & Developers \n1–4 PM\nMinecraft Modders \n12 spots available per session — sign up now!!! \nThe camp will be held at: ITC Building Room 151
URL:https://www.roswell.enmu.edu/event/blackrocket-camp/2026-07-13/
LOCATION:ENMU-Roswell ITC Commons\, 23 W. Mathis St.\, Roswell\, NM\, 88203\, United States
ATTACH;FMTTYPE=image/webp:https://www.roswell.enmu.edu/wp-content/uploads/2026/04/2026-BlackRocket-Camp-Instagram-Post-45.webp
ORGANIZER;CN="Chris Bullard":MAILTO:brandon.bullard@enmu.edu
END:VEVENT
END:VCALENDAR