BEGIN:VCALENDAR
VERSION:2.0
PRODID:-//Eastern New Mexico University - Roswell - ECPv6.15.18//NONSGML v1.0//EN
CALSCALE:GREGORIAN
METHOD:PUBLISH
X-WR-CALNAME:Eastern New Mexico University - Roswell
X-ORIGINAL-URL:https://www.roswell.enmu.edu
X-WR-CALDESC:Events for Eastern New Mexico University - Roswell
REFRESH-INTERVAL;VALUE=DURATION:PT1H
X-Robots-Tag:noindex
X-PUBLISHED-TTL:PT1H
BEGIN:VTIMEZONE
TZID:America/Denver
BEGIN:DAYLIGHT
TZOFFSETFROM:-0700
TZOFFSETTO:-0600
TZNAME:MDT
DTSTART:20250309T090000
END:DAYLIGHT
BEGIN:STANDARD
TZOFFSETFROM:-0600
TZOFFSETTO:-0700
TZNAME:MST
DTSTART:20251102T080000
END:STANDARD
BEGIN:DAYLIGHT
TZOFFSETFROM:-0700
TZOFFSETTO:-0600
TZNAME:MDT
DTSTART:20260308T090000
END:DAYLIGHT
BEGIN:STANDARD
TZOFFSETFROM:-0600
TZOFFSETTO:-0700
TZNAME:MST
DTSTART:20261101T080000
END:STANDARD
BEGIN:DAYLIGHT
TZOFFSETFROM:-0700
TZOFFSETTO:-0600
TZNAME:MDT
DTSTART:20270314T090000
END:DAYLIGHT
BEGIN:STANDARD
TZOFFSETFROM:-0600
TZOFFSETTO:-0700
TZNAME:MST
DTSTART:20271107T080000
END:STANDARD
END:VTIMEZONE
BEGIN:VEVENT
DTSTART;TZID=America/Denver:20260428T093000
DTEND;TZID=America/Denver:20260428T103000
DTSTAMP:20260422T012107
CREATED:20260417T155420Z
LAST-MODIFIED:20260417T155441Z
UID:10000557-1777368600-1777372200@www.roswell.enmu.edu
SUMMARY:Artist Lecture Series - Ash Eliza Williams
DESCRIPTION:About the Artist \nAsh Eliza Williams is an artist from the Blue Ridge Mountains of Virginia whose work focuses on interspecies communication and non-human language. They often collaborate with scientists and have exhibited at institutions such as the Museum of Contemporary Art Denver and the New York Hall of Science. Ash is currently a 2025–2026 artist-in-residence at the Roswell Foundation (RAiR) and has taught at Smith College and the University of Colorado.
URL:https://www.roswell.enmu.edu/event/2026-04-28_-_artist-lecture-series-ash-eliza-williams/
LOCATION:ENMU-Roswell ITC RM 155\, 26 Mathis Street\, Roswell\, NM\, 88203\, United States
ATTACH;FMTTYPE=image/webp:https://www.roswell.enmu.edu/wp-content/uploads/2026/04/Artist-lecture-Ash-Eliza-Williams-Instagram-Post-45-1024px.webp
ORGANIZER;CN="Kyle Torke":MAILTO:kyle.torke@enmu.edu
END:VEVENT
END:VCALENDAR