BEGIN:VCALENDAR
VERSION:2.0
PRODID:-//Eastern New Mexico University - Roswell - ECPv6.15.18//NONSGML v1.0//EN
CALSCALE:GREGORIAN
METHOD:PUBLISH
X-ORIGINAL-URL:https://www.roswell.enmu.edu
X-WR-CALDESC:Events for Eastern New Mexico University - Roswell
REFRESH-INTERVAL;VALUE=DURATION:PT1H
X-Robots-Tag:noindex
X-PUBLISHED-TTL:PT1H
BEGIN:VTIMEZONE
TZID:America/Denver
BEGIN:DAYLIGHT
TZOFFSETFROM:-0700
TZOFFSETTO:-0600
TZNAME:MDT
DTSTART:20240310T090000
END:DAYLIGHT
BEGIN:STANDARD
TZOFFSETFROM:-0600
TZOFFSETTO:-0700
TZNAME:MST
DTSTART:20241103T080000
END:STANDARD
BEGIN:DAYLIGHT
TZOFFSETFROM:-0700
TZOFFSETTO:-0600
TZNAME:MDT
DTSTART:20250309T090000
END:DAYLIGHT
BEGIN:STANDARD
TZOFFSETFROM:-0600
TZOFFSETTO:-0700
TZNAME:MST
DTSTART:20251102T080000
END:STANDARD
BEGIN:DAYLIGHT
TZOFFSETFROM:-0700
TZOFFSETTO:-0600
TZNAME:MDT
DTSTART:20260308T090000
END:DAYLIGHT
BEGIN:STANDARD
TZOFFSETFROM:-0600
TZOFFSETTO:-0700
TZNAME:MST
DTSTART:20261101T080000
END:STANDARD
END:VTIMEZONE
BEGIN:VEVENT
DTSTART;VALUE=DATE:20250908
DTEND;VALUE=DATE:20250915
DTSTAMP:20260419T222445
CREATED:20250617T160447Z
LAST-MODIFIED:20250617T165017Z
UID:10000316-1757289600-1757894399@www.roswell.enmu.edu
SUMMARY:2025 National Championship Air Races - Online Classes ONLY
DESCRIPTION:All Class Modality Temporarily Changed to Fully Online for the week of the National Championship Air Races \nENMU-Roswell Faculty and Staff will work remotely
URL:https://www.roswell.enmu.edu/event/2025-national-championship-air-races/
END:VEVENT
END:VCALENDAR