BEGIN:VCALENDAR
VERSION:2.0
PRODID:-//Eastern New Mexico University - Roswell - ECPv6.15.18//NONSGML v1.0//EN
CALSCALE:GREGORIAN
METHOD:PUBLISH
X-ORIGINAL-URL:https://www.roswell.enmu.edu
X-WR-CALDESC:Events for Eastern New Mexico University - Roswell
REFRESH-INTERVAL;VALUE=DURATION:PT1H
X-Robots-Tag:noindex
X-PUBLISHED-TTL:PT1H
BEGIN:VTIMEZONE
TZID:America/Denver
BEGIN:DAYLIGHT
TZOFFSETFROM:-0700
TZOFFSETTO:-0600
TZNAME:MDT
DTSTART:20250309T090000
END:DAYLIGHT
BEGIN:STANDARD
TZOFFSETFROM:-0600
TZOFFSETTO:-0700
TZNAME:MST
DTSTART:20251102T080000
END:STANDARD
BEGIN:DAYLIGHT
TZOFFSETFROM:-0700
TZOFFSETTO:-0600
TZNAME:MDT
DTSTART:20260308T090000
END:DAYLIGHT
BEGIN:STANDARD
TZOFFSETFROM:-0600
TZOFFSETTO:-0700
TZNAME:MST
DTSTART:20261101T080000
END:STANDARD
BEGIN:DAYLIGHT
TZOFFSETFROM:-0700
TZOFFSETTO:-0600
TZNAME:MDT
DTSTART:20270314T090000
END:DAYLIGHT
BEGIN:STANDARD
TZOFFSETFROM:-0600
TZOFFSETTO:-0700
TZNAME:MST
DTSTART:20271107T080000
END:STANDARD
END:VTIMEZONE
BEGIN:VEVENT
DTSTART;VALUE=DATE:20260501
DTEND;VALUE=DATE:20260502
DTSTAMP:20260419T095158
CREATED:20250618T005711Z
LAST-MODIFIED:20250618T005727Z
UID:10000353-1777593600-1777679999@www.roswell.enmu.edu
SUMMARY:Last Day of Classes - 16-Week Session (Spring 2026)
DESCRIPTION:
URL:https://www.roswell.enmu.edu/event/2026-spring-last-day-of-classes-16-week-session/
END:VEVENT
BEGIN:VEVENT
DTSTART;VALUE=DATE:20260506
DTEND;VALUE=DATE:20260507
DTSTAMP:20260419T095158
CREATED:20250618T010135Z
LAST-MODIFIED:20250618T010135Z
UID:10000355-1778025600-1778111999@www.roswell.enmu.edu
SUMMARY:Last Day of the Spring Semester (2026)
DESCRIPTION:
URL:https://www.roswell.enmu.edu/event/2026-last-day-of-the-spring-semester/
END:VEVENT
BEGIN:VEVENT
DTSTART;VALUE=DATE:20260507
DTEND;VALUE=DATE:20260508
DTSTAMP:20260419T095158
CREATED:20250618T010334Z
LAST-MODIFIED:20250618T010334Z
UID:10000356-1778112000-1778198399@www.roswell.enmu.edu
SUMMARY:Adult Education Graduation
DESCRIPTION:
URL:https://www.roswell.enmu.edu/event/2026-spring-adult-education-graduation/
END:VEVENT
BEGIN:VEVENT
DTSTART;VALUE=DATE:20260508
DTEND;VALUE=DATE:20260509
DTSTAMP:20260419T095158
CREATED:20250618T010506Z
LAST-MODIFIED:20250618T010506Z
UID:10000357-1778198400-1778284799@www.roswell.enmu.edu
SUMMARY:Commencement (Spring 2026)
DESCRIPTION:
URL:https://www.roswell.enmu.edu/event/2026-spring-commencement/
END:VEVENT
BEGIN:VEVENT
DTSTART;VALUE=DATE:20260525
DTEND;VALUE=DATE:20260526
DTSTAMP:20260419T095158
CREATED:20250618T010701Z
LAST-MODIFIED:20250618T010701Z
UID:10000358-1779667200-1779753599@www.roswell.enmu.edu
SUMMARY:Memorial Day - No Classes\, Campus Closed
DESCRIPTION:
URL:https://www.roswell.enmu.edu/event/2026-memorial-day-no-classes-campus-closed/
END:VEVENT
END:VCALENDAR