BEGIN:VCALENDAR
VERSION:2.0
PRODID:-//Eastern New Mexico University - Roswell - ECPv6.15.18//NONSGML v1.0//EN
CALSCALE:GREGORIAN
METHOD:PUBLISH
X-ORIGINAL-URL:https://www.roswell.enmu.edu
X-WR-CALDESC:Events for Eastern New Mexico University - Roswell
REFRESH-INTERVAL;VALUE=DURATION:PT1H
X-Robots-Tag:noindex
X-PUBLISHED-TTL:PT1H
BEGIN:VTIMEZONE
TZID:America/Denver
BEGIN:DAYLIGHT
TZOFFSETFROM:-0700
TZOFFSETTO:-0600
TZNAME:MDT
DTSTART:20250309T090000
END:DAYLIGHT
BEGIN:STANDARD
TZOFFSETFROM:-0600
TZOFFSETTO:-0700
TZNAME:MST
DTSTART:20251102T080000
END:STANDARD
BEGIN:DAYLIGHT
TZOFFSETFROM:-0700
TZOFFSETTO:-0600
TZNAME:MDT
DTSTART:20260308T090000
END:DAYLIGHT
BEGIN:STANDARD
TZOFFSETFROM:-0600
TZOFFSETTO:-0700
TZNAME:MST
DTSTART:20261101T080000
END:STANDARD
BEGIN:DAYLIGHT
TZOFFSETFROM:-0700
TZOFFSETTO:-0600
TZNAME:MDT
DTSTART:20270314T090000
END:DAYLIGHT
BEGIN:STANDARD
TZOFFSETFROM:-0600
TZOFFSETTO:-0700
TZNAME:MST
DTSTART:20271107T080000
END:STANDARD
END:VTIMEZONE
BEGIN:VEVENT
DTSTART;VALUE=DATE:20260302
DTEND;VALUE=DATE:20260307
DTSTAMP:20260419T095045
CREATED:20250618T003845Z
LAST-MODIFIED:20250618T003845Z
UID:10000344-1772409600-1772841599@www.roswell.enmu.edu
SUMMARY:Midterm Exams - 16-Week Session (Spring 2026)
DESCRIPTION:
URL:https://www.roswell.enmu.edu/event/2026-spring-midterm-exams-16-week-session/
END:VEVENT
BEGIN:VEVENT
DTSTART;VALUE=DATE:20260304
DTEND;VALUE=DATE:20260307
DTSTAMP:20260419T095045
CREATED:20250618T005902Z
LAST-MODIFIED:20250618T005953Z
UID:10000354-1772582400-1772841599@www.roswell.enmu.edu
SUMMARY:Final Exams and Assessments (Spring 2026)
DESCRIPTION:
URL:https://www.roswell.enmu.edu/event/2026-spring-final-exams-assessments/
END:VEVENT
BEGIN:VEVENT
DTSTART;VALUE=DATE:20260309
DTEND;VALUE=DATE:20260310
DTSTAMP:20260419T095045
CREATED:20250618T004035Z
LAST-MODIFIED:20250618T004053Z
UID:10000345-1773014400-1773100799@www.roswell.enmu.edu
SUMMARY:Second 8-Week Session Begins - Spring 2026
DESCRIPTION:
URL:https://www.roswell.enmu.edu/event/2026-spring-second-8-week-session-begins/
END:VEVENT
BEGIN:VEVENT
DTSTART;VALUE=DATE:20260310
DTEND;VALUE=DATE:20260311
DTSTAMP:20260419T095045
CREATED:20250618T004352Z
LAST-MODIFIED:20250618T004352Z
UID:10000346-1773100800-1773187199@www.roswell.enmu.edu
SUMMARY:Add/Drop Classes & Late Registration - Second 8-Week Session (Spring 2026)
DESCRIPTION:ONE DAY ONLY
URL:https://www.roswell.enmu.edu/event/2026-spring-add-drop-classes-late-registration-second-8-week-session/
END:VEVENT
BEGIN:VEVENT
DTSTART;VALUE=DATE:20260315
DTEND;VALUE=DATE:20260316
DTSTAMP:20260419T095045
CREATED:20250618T004526Z
LAST-MODIFIED:20250618T004707Z
UID:10000347-1773532800-1773619199@www.roswell.enmu.edu
SUMMARY:Last Day to Apply for Spring (2026) Graduation
DESCRIPTION:When you finish your coursework\, you will need to apply for graduation to get your degree. When you apply for graduation\, you have the option to participate in the commencement ceremonies. \nIf you are going to graduate and do not want to participate in commencement\, be sure to indicate that on your graduation application. \nIn order to walk in our commencement ceremony\, you must apply for graduation during the last semester you’re taking courses at ENMU-Roswell. Please note: there is no summer Commencement. (If you graduate in the summer\, you can choose to participate in either the preceding Spring Commencement or the following Fall Commencement as long as you meet the application deadline for your chosen semester.) \nENMU-Roswell Commencement represents the culmination of your academic achievement. It is a time of celebration and reflection for students\, families\, friends\, faculty and staff. Our graduation celebration brings together a diverse community to share in the joy of accomplished goals. All ENMU-Roswell graduates are invited to participate in the commencement ceremony. \nAPPLY \nFor more information\, visit ACADEMIC RECORDS -> GRADUATION
URL:https://www.roswell.enmu.edu/event/2026-spring-last-day-to-apply-for-spring-graduation/
END:VEVENT
BEGIN:VEVENT
DTSTART;VALUE=DATE:20260315
DTEND;VALUE=DATE:20260322
DTSTAMP:20260419T095045
CREATED:20250618T004851Z
LAST-MODIFIED:20260108T001854Z
UID:10000348-1773532800-1774137599@www.roswell.enmu.edu
SUMMARY:Spring Break - No Classes\, Campus Open
DESCRIPTION:
URL:https://www.roswell.enmu.edu/event/2026-spring-break/
END:VEVENT
BEGIN:VEVENT
DTSTART;VALUE=DATE:20260327
DTEND;VALUE=DATE:20260328
DTSTAMP:20260419T095045
CREATED:20250618T005059Z
LAST-MODIFIED:20250618T005059Z
UID:10000349-1774569600-1774655999@www.roswell.enmu.edu
SUMMARY:Last Day to Withdraw - 16-Week Session (Spring 2026)
DESCRIPTION:
URL:https://www.roswell.enmu.edu/event/2026-spring-last-day-to-withdraw-16-week-session/
END:VEVENT
END:VCALENDAR