BEGIN:VCALENDAR
VERSION:2.0
PRODID:-//Eastern New Mexico University - Roswell - ECPv6.15.18//NONSGML v1.0//EN
CALSCALE:GREGORIAN
METHOD:PUBLISH
X-WR-CALNAME:Eastern New Mexico University - Roswell
X-ORIGINAL-URL:https://www.roswell.enmu.edu
X-WR-CALDESC:Events for Eastern New Mexico University - Roswell
REFRESH-INTERVAL;VALUE=DURATION:PT1H
X-Robots-Tag:noindex
X-PUBLISHED-TTL:PT1H
BEGIN:VTIMEZONE
TZID:America/Denver
BEGIN:DAYLIGHT
TZOFFSETFROM:-0700
TZOFFSETTO:-0600
TZNAME:MDT
DTSTART:20240310T090000
END:DAYLIGHT
BEGIN:STANDARD
TZOFFSETFROM:-0600
TZOFFSETTO:-0700
TZNAME:MST
DTSTART:20241103T080000
END:STANDARD
BEGIN:DAYLIGHT
TZOFFSETFROM:-0700
TZOFFSETTO:-0600
TZNAME:MDT
DTSTART:20250309T090000
END:DAYLIGHT
BEGIN:STANDARD
TZOFFSETFROM:-0600
TZOFFSETTO:-0700
TZNAME:MST
DTSTART:20251102T080000
END:STANDARD
BEGIN:DAYLIGHT
TZOFFSETFROM:-0700
TZOFFSETTO:-0600
TZNAME:MDT
DTSTART:20260308T090000
END:DAYLIGHT
BEGIN:STANDARD
TZOFFSETFROM:-0600
TZOFFSETTO:-0700
TZNAME:MST
DTSTART:20261101T080000
END:STANDARD
BEGIN:DAYLIGHT
TZOFFSETFROM:-0700
TZOFFSETTO:-0600
TZNAME:MDT
DTSTART:20270314T090000
END:DAYLIGHT
BEGIN:STANDARD
TZOFFSETFROM:-0600
TZOFFSETTO:-0700
TZNAME:MST
DTSTART:20271107T080000
END:STANDARD
END:VTIMEZONE
BEGIN:VEVENT
DTSTART;VALUE=DATE:20251224
DTEND;VALUE=DATE:20260105
DTSTAMP:20260419T125224
CREATED:20250617T170805Z
LAST-MODIFIED:20250618T001040Z
UID:10000335-1766534400-1767571199@www.roswell.enmu.edu
SUMMARY:Winter Break - No Classes\, Campus Closed
DESCRIPTION:The ENMU-Roswell campus is closed for winter break; no classes will be held. The campus will re-open on Monday\, January 5th\, 2026.
URL:https://www.roswell.enmu.edu/event/2025-winter-break-no-classes-campus-closed/
END:VEVENT
BEGIN:VEVENT
DTSTART;VALUE=DATE:20260105
DTEND;VALUE=DATE:20260110
DTSTAMP:20260419T125224
CREATED:20250618T001318Z
LAST-MODIFIED:20250618T001318Z
UID:10000336-1767571200-1768003199@www.roswell.enmu.edu
SUMMARY:Faculty & Staff Welcome Back Week and In-Service
DESCRIPTION:
URL:https://www.roswell.enmu.edu/event/2026-spring-faculty-staff-welcome-back-week-and-in-service/
END:VEVENT
BEGIN:VEVENT
DTSTART;VALUE=DATE:20260112
DTEND;VALUE=DATE:20260113
DTSTAMP:20260419T125224
CREATED:20250618T002020Z
LAST-MODIFIED:20250618T002020Z
UID:10000337-1768176000-1768262399@www.roswell.enmu.edu
SUMMARY:16 Week Session Begins - Spring 2026
DESCRIPTION:
URL:https://www.roswell.enmu.edu/event/2026-spring-16-week-session-begins/
END:VEVENT
BEGIN:VEVENT
DTSTART;VALUE=DATE:20260112
DTEND;VALUE=DATE:20260113
DTSTAMP:20260419T125224
CREATED:20250618T002426Z
LAST-MODIFIED:20250618T002452Z
UID:10000339-1768176000-1768262399@www.roswell.enmu.edu
SUMMARY:First 8-Week Session Begins - Spring 2026
DESCRIPTION:
URL:https://www.roswell.enmu.edu/event/2026-spring-first-8-week-session-begins/
END:VEVENT
BEGIN:VEVENT
DTSTART;VALUE=DATE:20260112
DTEND;VALUE=DATE:20260117
DTSTAMP:20260419T125224
CREATED:20250618T002212Z
LAST-MODIFIED:20250618T002305Z
UID:10000338-1768176000-1768607999@www.roswell.enmu.edu
SUMMARY:Add/Drop Classes & Late Registration - 16-Week Session (Spring 2026)
DESCRIPTION:
URL:https://www.roswell.enmu.edu/event/2026-spring-add-drop-classes-late-registration-16-week-session/
END:VEVENT
BEGIN:VEVENT
DTSTART;VALUE=DATE:20260113
DTEND;VALUE=DATE:20260114
DTSTAMP:20260419T125224
CREATED:20250618T002811Z
LAST-MODIFIED:20250618T002847Z
UID:10000340-1768262400-1768348799@www.roswell.enmu.edu
SUMMARY:Add/Drop Classes & Late Registration - First 8-Week Session (Spring 2026)
DESCRIPTION:ONE DAY ONLY
URL:https://www.roswell.enmu.edu/event/2026-spring-add-drop-classes-late-registration-first-8-week-session/
END:VEVENT
BEGIN:VEVENT
DTSTART;VALUE=DATE:20260119
DTEND;VALUE=DATE:20260120
DTSTAMP:20260419T125224
CREATED:20250618T003045Z
LAST-MODIFIED:20250618T003248Z
UID:10000341-1768780800-1768867199@www.roswell.enmu.edu
SUMMARY:Martin Luther King Jr. Day - No Classes\, Campus Closed
DESCRIPTION:
URL:https://www.roswell.enmu.edu/event/2026-martin-luther-king-jr-day-no-classes-campus-closed/
END:VEVENT
END:VCALENDAR