BEGIN:VCALENDAR
VERSION:2.0
PRODID:-//Eastern New Mexico University - Roswell - ECPv6.15.18//NONSGML v1.0//EN
CALSCALE:GREGORIAN
METHOD:PUBLISH
X-WR-CALNAME:Eastern New Mexico University - Roswell
X-ORIGINAL-URL:https://www.roswell.enmu.edu
X-WR-CALDESC:Events for Eastern New Mexico University - Roswell
REFRESH-INTERVAL;VALUE=DURATION:PT1H
X-Robots-Tag:noindex
X-PUBLISHED-TTL:PT1H
BEGIN:VTIMEZONE
TZID:America/Denver
BEGIN:DAYLIGHT
TZOFFSETFROM:-0700
TZOFFSETTO:-0600
TZNAME:MDT
DTSTART:20240310T090000
END:DAYLIGHT
BEGIN:STANDARD
TZOFFSETFROM:-0600
TZOFFSETTO:-0700
TZNAME:MST
DTSTART:20241103T080000
END:STANDARD
BEGIN:DAYLIGHT
TZOFFSETFROM:-0700
TZOFFSETTO:-0600
TZNAME:MDT
DTSTART:20250309T090000
END:DAYLIGHT
BEGIN:STANDARD
TZOFFSETFROM:-0600
TZOFFSETTO:-0700
TZNAME:MST
DTSTART:20251102T080000
END:STANDARD
BEGIN:DAYLIGHT
TZOFFSETFROM:-0700
TZOFFSETTO:-0600
TZNAME:MDT
DTSTART:20260308T090000
END:DAYLIGHT
BEGIN:STANDARD
TZOFFSETFROM:-0600
TZOFFSETTO:-0700
TZNAME:MST
DTSTART:20261101T080000
END:STANDARD
END:VTIMEZONE
BEGIN:VEVENT
DTSTART;VALUE=DATE:20251006
DTEND;VALUE=DATE:20251011
DTSTAMP:20260419T190916
CREATED:20250617T162732Z
LAST-MODIFIED:20250617T162732Z
UID:10000321-1759708800-1760140799@www.roswell.enmu.edu
SUMMARY:Midterm Exams - 16-Week Session
DESCRIPTION:Fall 2025 Midterm Exams week
URL:https://www.roswell.enmu.edu/event/2025-midterm-exams-16-week-session-2/
END:VEVENT
BEGIN:VEVENT
DTSTART;VALUE=DATE:20251010
DTEND;VALUE=DATE:20251011
DTSTAMP:20260419T190916
CREATED:20250617T162903Z
LAST-MODIFIED:20250617T162917Z
UID:10000322-1760054400-1760140799@www.roswell.enmu.edu
SUMMARY:Last Day of Class - First 8-Week Session
DESCRIPTION:
URL:https://www.roswell.enmu.edu/event/2025-fall-last-day-of-class-first-8-week-session/
END:VEVENT
BEGIN:VEVENT
DTSTART;VALUE=DATE:20251013
DTEND;VALUE=DATE:20251014
DTSTAMP:20260419T190916
CREATED:20250617T163124Z
LAST-MODIFIED:20250617T163124Z
UID:10000323-1760313600-1760399999@www.roswell.enmu.edu
SUMMARY:Second 8-Week Session Begins
DESCRIPTION:
URL:https://www.roswell.enmu.edu/event/2025-fall-second-8-week-session-begins/
END:VEVENT
BEGIN:VEVENT
DTSTART;VALUE=DATE:20251014
DTEND;VALUE=DATE:20251015
DTSTAMP:20260419T190916
CREATED:20250617T163418Z
LAST-MODIFIED:20250617T163418Z
UID:10000324-1760400000-1760486399@www.roswell.enmu.edu
SUMMARY:Add/Drop Classes & Late Registration - Second 8-Week Session
DESCRIPTION:ONE DAY ONLY \nLast and only day to add or drop classes and late registrations for the second 8-week session (Fall 2025)
URL:https://www.roswell.enmu.edu/event/add-drop-classes-late-registration-second-8-week-session/
END:VEVENT
BEGIN:VEVENT
DTSTART;VALUE=DATE:20251015
DTEND;VALUE=DATE:20251016
DTSTAMP:20260419T190916
CREATED:20250617T163708Z
LAST-MODIFIED:20250617T164058Z
UID:10000325-1760486400-1760572799@www.roswell.enmu.edu
SUMMARY:Last Day to Apply for Fall (2025) Graduation
DESCRIPTION:When you finish your coursework\, you will need to apply for graduation to get your degree. When you apply for graduation\, you have the option to participate in the commencement ceremonies. \nIf you are going to graduate and do not want to participate in commencement\, be sure to indicate that on your graduation application. \nIn order to walk in our commencement ceremony\, you must apply for graduation during the last semester you’re taking courses at ENMU-Roswell. Please note: there is no summer Commencement. (If you graduate in the summer\, you can choose to participate in either the preceding Spring Commencement or the following Fall Commencement as long as you meet the application deadline for your chosen semester.) \nENMU-Roswell Commencement represents the culmination of your academic achievement. It is a time of celebration and reflection for students\, families\, friends\, faculty and staff. Our graduation celebration brings together a diverse community to share in the joy of accomplished goals. All ENMU-Roswell graduates are invited to participate in the commencement ceremony. \nAPPLY \nFor more information\, visit ACADEMIC RECORDS -> GRADUATION
URL:https://www.roswell.enmu.edu/event/last-day-to-apply-for-fall-2025-graduation/
END:VEVENT
BEGIN:VEVENT
DTSTART;VALUE=DATE:20251024
DTEND;VALUE=DATE:20251025
DTSTAMP:20260419T190916
CREATED:20250617T164322Z
LAST-MODIFIED:20250617T164322Z
UID:10000326-1761264000-1761350399@www.roswell.enmu.edu
SUMMARY:Last Day to Withdraw - 16-Week Session
DESCRIPTION:
URL:https://www.roswell.enmu.edu/event/2025-fall-last-day-to-withdraw-16-week-session-2/
END:VEVENT
BEGIN:VEVENT
DTSTART;VALUE=DATE:20251026
DTEND;VALUE=DATE:20251027
DTSTAMP:20260419T190916
CREATED:20250617T164531Z
LAST-MODIFIED:20251022T183809Z
UID:10000327-1761436800-1761523199@www.roswell.enmu.edu
SUMMARY:Priority Registration for Spring Semester Begins for Sophomores
DESCRIPTION:Sophomores get a jump-start on registration for the Spring 2026 semester. Get the classes you need before they fill up! \n\nREGISTER
URL:https://www.roswell.enmu.edu/event/2025-fall-priority-registration-for-spring-semester-begins-for-sophomores/
ATTACH;FMTTYPE=image/webp:https://www.roswell.enmu.edu/wp-content/uploads/2025/06/Spring-Priority-Registration-Instagram-Post-45.webp
END:VEVENT
END:VCALENDAR