BEGIN:VCALENDAR
VERSION:2.0
PRODID:-//Eastern New Mexico University - Roswell - ECPv6.15.18//NONSGML v1.0//EN
CALSCALE:GREGORIAN
METHOD:PUBLISH
X-ORIGINAL-URL:https://www.roswell.enmu.edu
X-WR-CALDESC:Events for Eastern New Mexico University - Roswell
REFRESH-INTERVAL;VALUE=DURATION:PT1H
X-Robots-Tag:noindex
X-PUBLISHED-TTL:PT1H
BEGIN:VTIMEZONE
TZID:America/Denver
BEGIN:DAYLIGHT
TZOFFSETFROM:-0700
TZOFFSETTO:-0600
TZNAME:MDT
DTSTART:20240310T090000
END:DAYLIGHT
BEGIN:STANDARD
TZOFFSETFROM:-0600
TZOFFSETTO:-0700
TZNAME:MST
DTSTART:20241103T080000
END:STANDARD
BEGIN:DAYLIGHT
TZOFFSETFROM:-0700
TZOFFSETTO:-0600
TZNAME:MDT
DTSTART:20250309T090000
END:DAYLIGHT
BEGIN:STANDARD
TZOFFSETFROM:-0600
TZOFFSETTO:-0700
TZNAME:MST
DTSTART:20251102T080000
END:STANDARD
BEGIN:DAYLIGHT
TZOFFSETFROM:-0700
TZOFFSETTO:-0600
TZNAME:MDT
DTSTART:20260308T090000
END:DAYLIGHT
BEGIN:STANDARD
TZOFFSETFROM:-0600
TZOFFSETTO:-0700
TZNAME:MST
DTSTART:20261101T080000
END:STANDARD
END:VTIMEZONE
BEGIN:VEVENT
DTSTART;VALUE=DATE:20250901
DTEND;VALUE=DATE:20250902
DTSTAMP:20260419T205457
CREATED:20250617T155815Z
LAST-MODIFIED:20250617T160213Z
UID:10000315-1756684800-1756771199@www.roswell.enmu.edu
SUMMARY:Labor Day Holiday - No Classes\, Campus Closed
DESCRIPTION:The ENMU-Roswell campus will be closed in observance of Labor Day. No classes will be held.
URL:https://www.roswell.enmu.edu/event/2025-labor-day-holiday-no-classes-campus-closed/
END:VEVENT
BEGIN:VEVENT
DTSTART;VALUE=DATE:20250908
DTEND;VALUE=DATE:20250915
DTSTAMP:20260419T205457
CREATED:20250617T160447Z
LAST-MODIFIED:20250617T165017Z
UID:10000316-1757289600-1757894399@www.roswell.enmu.edu
SUMMARY:2025 National Championship Air Races - Online Classes ONLY
DESCRIPTION:All Class Modality Temporarily Changed to Fully Online for the week of the National Championship Air Races \nENMU-Roswell Faculty and Staff will work remotely
URL:https://www.roswell.enmu.edu/event/2025-national-championship-air-races/
END:VEVENT
BEGIN:VEVENT
DTSTART;VALUE=DATE:20250912
DTEND;VALUE=DATE:20250913
DTSTAMP:20260419T205457
CREATED:20250617T160805Z
LAST-MODIFIED:20250617T160816Z
UID:10000317-1757635200-1757721599@www.roswell.enmu.edu
SUMMARY:Last Day to Withdraw - First 8-Week Session
DESCRIPTION:This is the last day to withdraw from the first 8 week session (Fall 2025)
URL:https://www.roswell.enmu.edu/event/2025-fall-last-day-to-withdraw-first-8-week-session-2/
END:VEVENT
BEGIN:VEVENT
DTSTART;TZID=America/Denver:20250917T123000
DTEND;TZID=America/Denver:20250917T133000
DTSTAMP:20260419T205457
CREATED:20250617T162014Z
LAST-MODIFIED:20250915T221950Z
UID:10000318-1758112200-1758115800@www.roswell.enmu.edu
SUMMARY:Constitution Day
DESCRIPTION:“We the people of the United States\, in order to form a more perfect union…” \nThe ENMU-Roswell campus will observe and celebrate Constitution Day on September 17th with guest speakers from the District Attorney’s office. Light refreshments will be served. \nConstitution Day is an American federal observance that recognizes the adoption of the United States Constitution and those who have become U.S. citizens. It is normally observed on September 17\, the day in 1787 that delegates to the Constitutional Convention signed the document in Philadelphia. The United States Congress designated September 17 as Constitution Day and Citizenship Day on February 29\, 1952\, by joint resolution (36 U.S.C. 106). It begins Constitution Week in the United States\, which continues through September 23. \nref. Constitution Day and Citizenship Day – Wikipedia
URL:https://www.roswell.enmu.edu/event/2025-constitution-day/
LOCATION:ENMU-Roswell Performing Arts Center\, 52 University Blvd\, Roswell\, 88203\, United States
ATTACH;FMTTYPE=image/jpeg:https://www.roswell.enmu.edu/wp-content/uploads/2025/06/Constitution-Day-Flyer-Updated-Location.jpg
ORGANIZER;CN="Martha Staab":MAILTO:martha.staab@enmu.edu
END:VEVENT
BEGIN:VEVENT
DTSTART;VALUE=DATE:20250929
DTEND;VALUE=DATE:20250930
DTSTAMP:20260419T205457
CREATED:20250617T162355Z
LAST-MODIFIED:20250617T162504Z
UID:10000319-1759104000-1759190399@www.roswell.enmu.edu
SUMMARY:Eastern New Mexico State Fair Day - No Classes\, Campus Closed
DESCRIPTION:The ENMU-Roswell campus is closed during the Eastern NM State Fair. No classes will be held on Monday\, September 29th.
URL:https://www.roswell.enmu.edu/event/2025-eastern-new-mexico-state-fair-day-no-classes-campus-closed/
END:VEVENT
END:VCALENDAR