BEGIN:VCALENDAR
VERSION:2.0
PRODID:-//Eastern New Mexico University - Roswell - ECPv6.15.18//NONSGML v1.0//EN
CALSCALE:GREGORIAN
METHOD:PUBLISH
X-WR-CALNAME:Eastern New Mexico University - Roswell
X-ORIGINAL-URL:https://www.roswell.enmu.edu
X-WR-CALDESC:Events for Eastern New Mexico University - Roswell
REFRESH-INTERVAL;VALUE=DURATION:PT1H
X-Robots-Tag:noindex
X-PUBLISHED-TTL:PT1H
BEGIN:VTIMEZONE
TZID:America/Denver
BEGIN:DAYLIGHT
TZOFFSETFROM:-0700
TZOFFSETTO:-0600
TZNAME:MDT
DTSTART:20240310T090000
END:DAYLIGHT
BEGIN:STANDARD
TZOFFSETFROM:-0600
TZOFFSETTO:-0700
TZNAME:MST
DTSTART:20241103T080000
END:STANDARD
BEGIN:DAYLIGHT
TZOFFSETFROM:-0700
TZOFFSETTO:-0600
TZNAME:MDT
DTSTART:20250309T090000
END:DAYLIGHT
BEGIN:STANDARD
TZOFFSETFROM:-0600
TZOFFSETTO:-0700
TZNAME:MST
DTSTART:20251102T080000
END:STANDARD
BEGIN:DAYLIGHT
TZOFFSETFROM:-0700
TZOFFSETTO:-0600
TZNAME:MDT
DTSTART:20260308T090000
END:DAYLIGHT
BEGIN:STANDARD
TZOFFSETFROM:-0600
TZOFFSETTO:-0700
TZNAME:MST
DTSTART:20261101T080000
END:STANDARD
END:VTIMEZONE
BEGIN:VEVENT
DTSTART;VALUE=DATE:20250807
DTEND;VALUE=DATE:20250808
DTSTAMP:20260420T102952
CREATED:20250812T173602Z
LAST-MODIFIED:20250812T173948Z
UID:10000381-1754524800-1754611199@www.roswell.enmu.edu
SUMMARY:ESL Lab: Beginner Workshop
DESCRIPTION:The English as a Second Language (ESL) Lab\, located in the Learning Resource Center (LRC) Room 118 (inside Library)\, will be hosting a series of workshops for beginner and intermediate speakers throughout August. \nFor more information\, please contact the ESL Lab Coordinator \nRamon Oropesa\n1 (575) 624-7163 \nThis program is sponsored by the Department of Education
URL:https://www.roswell.enmu.edu/event/esl-lab-beginner-workshop/2025-08-07/
LOCATION:ENMU-Roswell ESL Lab\, LRC RM 118\, 52 University Blvd\, Roswell\, NM\, 88203\, United States
ATTACH;FMTTYPE=image/webp:https://www.roswell.enmu.edu/wp-content/uploads/2025/08/August-Workshops-Schedule-2025.webp
ORGANIZER;CN="Ramon Oropesa":MAILTO:ramon.oropesa@enmu.edu
END:VEVENT
BEGIN:VEVENT
DTSTART;VALUE=DATE:20250805
DTEND;VALUE=DATE:20250806
DTSTAMP:20260420T102952
CREATED:20250812T173809Z
LAST-MODIFIED:20250812T173913Z
UID:10000389-1754352000-1754438399@www.roswell.enmu.edu
SUMMARY:ESL Lab: Intermediate Workshop
DESCRIPTION:The English as a Second Language (ESL) Lab\, located in the Learning Resource Center (LRC) Room 118 (inside Library)\, will be hosting a series of workshops for beginner and intermediate speakers throughout August. \nFor more information\, please contact the ESL Lab Coordinator \nRamon Oropesa\n1 (575) 624-7163 \nThis program is sponsored by the Department of Education
URL:https://www.roswell.enmu.edu/event/esl-lab-intermediate-workshop/2025-08-05/
LOCATION:ENMU-Roswell ESL Lab\, LRC RM 118\, 52 University Blvd\, Roswell\, NM\, 88203\, United States
ATTACH;FMTTYPE=image/webp:https://www.roswell.enmu.edu/wp-content/uploads/2025/08/August-Workshops-Schedule-2025.webp
ORGANIZER;CN="Ramon Oropesa":MAILTO:ramon.oropesa@enmu.edu
END:VEVENT
BEGIN:VEVENT
DTSTART;TZID=America/Denver:20250801T100000
DTEND;TZID=America/Denver:20250801T110000
DTSTAMP:20260420T102952
CREATED:20250723T163809Z
LAST-MODIFIED:20250730T200701Z
UID:10000369-1754042400-1754046000@www.roswell.enmu.edu
SUMMARY:Professional Senate Meeting
DESCRIPTION:Join us in the Flex Room or on Teams for our regularly scheduled monthly meeting. This event is open to all professional staff.
URL:https://www.roswell.enmu.edu/event/professional-senate-meeting-01aug2025/
LOCATION:ENMU-Roswell LRC\, RM 121\, 52 University Blvd\, Roswell\, NM\, 88203\, United States
ORGANIZER;CN="Professional Senate President":MAILTO:roswprofessionalpres@enmu.edu
END:VEVENT
BEGIN:VEVENT
DTSTART;VALUE=DATE:20250725
DTEND;VALUE=DATE:20250726
DTSTAMP:20260420T102952
CREATED:20240731T230645Z
LAST-MODIFIED:20240731T230645Z
UID:10000108-1753401600-1753487999@www.roswell.enmu.edu
SUMMARY:Last Day of Classes - 8 Week Session
DESCRIPTION:
URL:https://www.roswell.enmu.edu/event/last-day-of-classes-8-week-session/
LOCATION:ENMU-Roswell Campus\, 52 University Blvd\, Roswell\, NM\, 88203\, United States
END:VEVENT
BEGIN:VEVENT
DTSTART;TZID=America/Denver:20250724T063000
DTEND;TZID=America/Denver:20250724T180000
DTSTAMP:20260420T102952
CREATED:20250530T191330Z
LAST-MODIFIED:20250530T195427Z
UID:10000307-1753338600-1753380000@www.roswell.enmu.edu
SUMMARY:GEAR UP Summer Academy - Session Three
DESCRIPTION:*FREE* *GRATIS* \nOpen for Fall 2025 11th and 12th grade students who attend Chaves County Public Schools!\n¡Abierto para los estudiantes de los grados 11 y 12 del otoño de 2025 que asisten a las Escuelas Públicas del Condado Chaves! \nBreakfast\, Lunch\, and Transportation will be provided.\nSe ofrecera desayuno\, almuerzo y transporte. \nPickup and drop-off times vary by day.\nEl área del valle se recogerá en sus escuelas secundarias y se trasladará a Roswell en los horarios que se indican a continuación. \nBus time pick up and drop off are estimates.\nEl tiempo de ida y vuelta del autobús es estimado. \n— \nSession III consists of a day trip to Santa Fe\, NM to visit the Immersive and interactive art adventure that is Meow Wolf \nThursday July 24th | 6:40 AM – 6:00 PM | Meow Wolf \nTransportation\, Breakfast & Lunch: Provided for Free \nSIGN UP
URL:https://www.roswell.enmu.edu/event/gear-up-summer-academy-session-two-3/
LOCATION:NM
ATTACH;FMTTYPE=image/webp:https://www.roswell.enmu.edu/wp-content/uploads/2025/05/Summer-Academy-2025-Registration-Flyer.webp
ORGANIZER;CN="Paulina Alvarez":MAILTO:paulina.alvarez@enmu.edu
END:VEVENT
BEGIN:VEVENT
DTSTART;VALUE=DATE:20250721
DTEND;VALUE=DATE:20250726
DTSTAMP:20260420T102952
CREATED:20240731T230204Z
LAST-MODIFIED:20240731T230204Z
UID:10000106-1753056000-1753487999@www.roswell.enmu.edu
SUMMARY:Final Exams - 8 Week Session
DESCRIPTION:
URL:https://www.roswell.enmu.edu/event/final-exams-8-week-session/
LOCATION:NM
END:VEVENT
END:VCALENDAR