BEGIN:VCALENDAR
VERSION:2.0
PRODID:-//Eastern New Mexico University - Roswell - ECPv6.15.18//NONSGML v1.0//EN
CALSCALE:GREGORIAN
METHOD:PUBLISH
X-WR-CALNAME:Eastern New Mexico University - Roswell
X-ORIGINAL-URL:https://www.roswell.enmu.edu
X-WR-CALDESC:Events for Eastern New Mexico University - Roswell
REFRESH-INTERVAL;VALUE=DURATION:PT1H
X-Robots-Tag:noindex
X-PUBLISHED-TTL:PT1H
BEGIN:VTIMEZONE
TZID:America/Denver
BEGIN:DAYLIGHT
TZOFFSETFROM:-0700
TZOFFSETTO:-0600
TZNAME:MDT
DTSTART:20250309T090000
END:DAYLIGHT
BEGIN:STANDARD
TZOFFSETFROM:-0600
TZOFFSETTO:-0700
TZNAME:MST
DTSTART:20251102T080000
END:STANDARD
BEGIN:DAYLIGHT
TZOFFSETFROM:-0700
TZOFFSETTO:-0600
TZNAME:MDT
DTSTART:20260308T090000
END:DAYLIGHT
BEGIN:STANDARD
TZOFFSETFROM:-0600
TZOFFSETTO:-0700
TZNAME:MST
DTSTART:20261101T080000
END:STANDARD
BEGIN:DAYLIGHT
TZOFFSETFROM:-0700
TZOFFSETTO:-0600
TZNAME:MDT
DTSTART:20270314T090000
END:DAYLIGHT
BEGIN:STANDARD
TZOFFSETFROM:-0600
TZOFFSETTO:-0700
TZNAME:MST
DTSTART:20271107T080000
END:STANDARD
END:VTIMEZONE
BEGIN:VEVENT
DTSTART;TZID=America/Denver:20260420T080000
DTEND;TZID=America/Denver:20260420T150000
DTSTAMP:20260420T013611
CREATED:20260401T222316Z
LAST-MODIFIED:20260402T162041Z
UID:10000547-1776672000-1776697200@www.roswell.enmu.edu
SUMMARY:Southwest Writers Seminar
DESCRIPTION:Join us Monday\, April 20th\, in the Instructional Technology Center (ITC) Commons for the Southwest Writers Seminar featuring award-winning veterans and family members as they share their published readings and engage the audience with how writing has helped them heal. \nFor more information\, please contact Jim Tritten \n1 (505) 453-6795\njimritten@comcast.net
URL:https://www.roswell.enmu.edu/event/southwest-writers-seminar/
LOCATION:ENMU-Roswell ITC Commons\, 23 W. Mathis St.\, Roswell\, NM\, 88203\, United States
ATTACH;FMTTYPE=image/webp:https://www.roswell.enmu.edu/wp-content/uploads/2026/04/Writers-of-the-Southwest-April-20-2026-8-3-Instagram-Post-45.webp
ORGANIZER;CN="Kyle Torke":MAILTO:kyle.torke@enmu.edu
END:VEVENT
END:VCALENDAR