BEGIN:VCALENDAR
VERSION:2.0
PRODID:-//Eastern New Mexico University - Roswell - ECPv6.15.18//NONSGML v1.0//EN
CALSCALE:GREGORIAN
METHOD:PUBLISH
X-WR-CALNAME:Eastern New Mexico University - Roswell
X-ORIGINAL-URL:https://www.roswell.enmu.edu
X-WR-CALDESC:Events for Eastern New Mexico University - Roswell
REFRESH-INTERVAL;VALUE=DURATION:PT1H
X-Robots-Tag:noindex
X-PUBLISHED-TTL:PT1H
BEGIN:VTIMEZONE
TZID:America/Denver
BEGIN:DAYLIGHT
TZOFFSETFROM:-0700
TZOFFSETTO:-0600
TZNAME:MDT
DTSTART:20240310T090000
END:DAYLIGHT
BEGIN:STANDARD
TZOFFSETFROM:-0600
TZOFFSETTO:-0700
TZNAME:MST
DTSTART:20241103T080000
END:STANDARD
BEGIN:DAYLIGHT
TZOFFSETFROM:-0700
TZOFFSETTO:-0600
TZNAME:MDT
DTSTART:20250309T090000
END:DAYLIGHT
BEGIN:STANDARD
TZOFFSETFROM:-0600
TZOFFSETTO:-0700
TZNAME:MST
DTSTART:20251102T080000
END:STANDARD
BEGIN:DAYLIGHT
TZOFFSETFROM:-0700
TZOFFSETTO:-0600
TZNAME:MDT
DTSTART:20260308T090000
END:DAYLIGHT
BEGIN:STANDARD
TZOFFSETFROM:-0600
TZOFFSETTO:-0700
TZNAME:MST
DTSTART:20261101T080000
END:STANDARD
END:VTIMEZONE
BEGIN:VEVENT
DTSTART;TZID=America/Denver:20251122T080000
DTEND;TZID=America/Denver:20251122T120000
DTSTAMP:20260419T205202
CREATED:20250708T195449Z
LAST-MODIFIED:20251013T163221Z
UID:10000367-1763798400-1763812800@www.roswell.enmu.edu
SUMMARY:2025 Turkey Trot
DESCRIPTION:Join us at the Instructional Technology Center (ITC) on Saturday\, November 22nd\, for a 5K Fun Run/Walk. Registration for the event begins at 8:00 AM\, and the race will start at 9:00 AM. \nThe entry fee is a donation of any non-perishable food item\, such as canned fruits\, canned vegetables\, soup\, and/or a can or bag of dog or cat food. The race will benefit the ENMU-Roswell campus Food Pantry and Roswell Humane Society.
URL:https://www.roswell.enmu.edu/event/2025-turkey-trot/
LOCATION:ENMU-Roswell ITC\, 23 W. Mathis St.\, Roswell\, NM\, 88203\, United States
ATTACH;FMTTYPE=image/webp:https://www.roswell.enmu.edu/wp-content/uploads/2025/07/Turkey-Trot-25-1.webp
ORGANIZER;CN="Martha Staab":MAILTO:martha.staab@enmu.edu
END:VEVENT
END:VCALENDAR