BEGIN:VCALENDAR
VERSION:2.0
PRODID:-//Eastern New Mexico University - Roswell - ECPv6.15.18//NONSGML v1.0//EN
CALSCALE:GREGORIAN
METHOD:PUBLISH
X-WR-CALNAME:Eastern New Mexico University - Roswell
X-ORIGINAL-URL:https://www.roswell.enmu.edu
X-WR-CALDESC:Events for Eastern New Mexico University - Roswell
REFRESH-INTERVAL;VALUE=DURATION:PT1H
X-Robots-Tag:noindex
X-PUBLISHED-TTL:PT1H
BEGIN:VTIMEZONE
TZID:America/Denver
BEGIN:DAYLIGHT
TZOFFSETFROM:-0700
TZOFFSETTO:-0600
TZNAME:MDT
DTSTART:20240310T090000
END:DAYLIGHT
BEGIN:STANDARD
TZOFFSETFROM:-0600
TZOFFSETTO:-0700
TZNAME:MST
DTSTART:20241103T080000
END:STANDARD
BEGIN:DAYLIGHT
TZOFFSETFROM:-0700
TZOFFSETTO:-0600
TZNAME:MDT
DTSTART:20250309T090000
END:DAYLIGHT
BEGIN:STANDARD
TZOFFSETFROM:-0600
TZOFFSETTO:-0700
TZNAME:MST
DTSTART:20251102T080000
END:STANDARD
BEGIN:DAYLIGHT
TZOFFSETFROM:-0700
TZOFFSETTO:-0600
TZNAME:MDT
DTSTART:20260308T090000
END:DAYLIGHT
BEGIN:STANDARD
TZOFFSETFROM:-0600
TZOFFSETTO:-0700
TZNAME:MST
DTSTART:20261101T080000
END:STANDARD
END:VTIMEZONE
BEGIN:VEVENT
DTSTART;TZID=America/Denver:20251118T080000
DTEND;TZID=America/Denver:20251120T170000
DTSTAMP:20260419T205204
CREATED:20250908T181800Z
LAST-MODIFIED:20250908T181800Z
UID:10000399-1763452800-1763658000@www.roswell.enmu.edu
SUMMARY:Remote Pilot Class
DESCRIPTION:Ready to take your drone skills to new heights? Learn everything you need to prepare for the FAA Part 107 exam and gain the skills to operate drones professionally and safely. \nThis three-day course will begin on November 18th at 8 AM. \nThe fee for this class is $30 USD per person\, and there are only twenty (20) seats available \nTo reserve your spot\, please contact Chris Bullard\, brandon.bullard@enmu.edu\, or by phone at 1 (575) 624-7325.
URL:https://www.roswell.enmu.edu/event/2025-11-18-remote-pilot-class/
LOCATION:ENMU-Roswell LRC\, RM 121\, 52 University Blvd\, Roswell\, NM\, 88203\, United States
ATTACH;FMTTYPE=image/webp:https://www.roswell.enmu.edu/wp-content/uploads/2025/09/Remote-Pilot-Class-Flyer-Nov-18th-20th.webp
ORGANIZER;CN="Chris Bullard":MAILTO:brandon.bullard@enmu.edu
END:VEVENT
BEGIN:VEVENT
DTSTART;TZID=America/Denver:20251119T130000
DTEND;TZID=America/Denver:20251119T160000
DTSTAMP:20260419T205204
CREATED:20250722T232107Z
LAST-MODIFIED:20250728T183358Z
UID:10000368-1763557200-1763568000@www.roswell.enmu.edu
SUMMARY:Career Fair - Fall 2025
DESCRIPTION:Fall 2025 \nJoin us in the Instructional Technology Center (ITC) Commons on Wednesday\, November 19th\, between 1 PM and 4 PM to connect with local and regional businesses eager to hire. You’ll enjoy meaningful conversations with potential employers\, and there will be plenty of networking opportunities with other professionals in various industries. Food trucks will be available just outside the ITC building.
URL:https://www.roswell.enmu.edu/event/2025-fall-career-fair/
LOCATION:ENMU-Roswell ITC Commons\, 23 W. Mathis St.\, Roswell\, NM\, 88203\, United States
ATTACH;FMTTYPE=image/webp:https://www.roswell.enmu.edu/wp-content/uploads/2025/07/Career-Fair-Social-Media.webp
ORGANIZER;CN="Martha Staab":MAILTO:martha.staab@enmu.edu
END:VEVENT
END:VCALENDAR