BEGIN:VCALENDAR
VERSION:2.0
PRODID:-//Eastern New Mexico University - Roswell - ECPv6.15.18//NONSGML v1.0//EN
CALSCALE:GREGORIAN
METHOD:PUBLISH
X-WR-CALNAME:Eastern New Mexico University - Roswell
X-ORIGINAL-URL:https://www.roswell.enmu.edu
X-WR-CALDESC:Events for Eastern New Mexico University - Roswell
REFRESH-INTERVAL;VALUE=DURATION:PT1H
X-Robots-Tag:noindex
X-PUBLISHED-TTL:PT1H
BEGIN:VTIMEZONE
TZID:America/Denver
BEGIN:DAYLIGHT
TZOFFSETFROM:-0700
TZOFFSETTO:-0600
TZNAME:MDT
DTSTART:20240310T090000
END:DAYLIGHT
BEGIN:STANDARD
TZOFFSETFROM:-0600
TZOFFSETTO:-0700
TZNAME:MST
DTSTART:20241103T080000
END:STANDARD
BEGIN:DAYLIGHT
TZOFFSETFROM:-0700
TZOFFSETTO:-0600
TZNAME:MDT
DTSTART:20250309T090000
END:DAYLIGHT
BEGIN:STANDARD
TZOFFSETFROM:-0600
TZOFFSETTO:-0700
TZNAME:MST
DTSTART:20251102T080000
END:STANDARD
BEGIN:DAYLIGHT
TZOFFSETFROM:-0700
TZOFFSETTO:-0600
TZNAME:MDT
DTSTART:20260308T090000
END:DAYLIGHT
BEGIN:STANDARD
TZOFFSETFROM:-0600
TZOFFSETTO:-0700
TZNAME:MST
DTSTART:20261101T080000
END:STANDARD
END:VTIMEZONE
BEGIN:VEVENT
DTSTART;VALUE=DATE:20251107
DTEND;VALUE=DATE:20251108
DTSTAMP:20260419T205206
CREATED:20250617T164752Z
LAST-MODIFIED:20250617T164810Z
UID:10000329-1762473600-1762559999@www.roswell.enmu.edu
SUMMARY:Last Day to Withdraw - Second 8-Week Session
DESCRIPTION:
URL:https://www.roswell.enmu.edu/event/2025-fall-last-day-to-withdraw-second-8-week-session-2/
LOCATION:NM
END:VEVENT
BEGIN:VEVENT
DTSTART;TZID=America/Denver:20251107T090000
DTEND;TZID=America/Denver:20251107T140000
DTSTAMP:20260419T205206
CREATED:20251027T143518Z
LAST-MODIFIED:20251027T145040Z
UID:10000423-1762506000-1762524000@www.roswell.enmu.edu
SUMMARY:2025 Surplus Sale and Auction
DESCRIPTION:Beginning Friday\, November 7th\, at 9:00 AM\, the ENMU-Roswell campus will auction off surplus furniture\, tools\, and other equipment. There is no entry fee to attend. The sale will be held at the Physical Plant’s storage yard. \nPlease direct all questions to vivian.brodell@enmu.edu \nSome of the items that will be included in the sale are: \n\nFiling Cabinets and Office Chairs\nCabinets and Sink Bases\nDaycare Equipment\nTools and Landscaping Equipment\nTool Boxes\nPressure Washers\nTVs\nJohn Deer Gators\nTractor\nGolf Carts\nVarious Electronics\nCarts\nTires
URL:https://www.roswell.enmu.edu/event/2025-11-nov-07-surplus-sale-and-auction/
LOCATION:ENMU-Roswell Physical Plant Storage Yard\, 34 West Mathis St.\, Roswell\, NM\, 88203\, United States
ATTACH;FMTTYPE=image/webp:https://www.roswell.enmu.edu/wp-content/uploads/2025/10/Auction-Instagram-Post-45.webp
ORGANIZER;CN="Vivian Brodell":MAILTO:vivian.brodell@enmu.edu
END:VEVENT
BEGIN:VEVENT
DTSTART;TZID=America/Denver:20251107T100000
DTEND;TZID=America/Denver:20251107T110000
DTSTAMP:20260419T205206
CREATED:20250723T165939Z
LAST-MODIFIED:20250730T200637Z
UID:10000372-1762509600-1762513200@www.roswell.enmu.edu
SUMMARY:Professional Senate Meeting
DESCRIPTION:Join us in the Flex Room or on Teams for our regularly scheduled monthly meeting. This event is open to all professional staff.
URL:https://www.roswell.enmu.edu/event/professional-senate-meeting-07nov2025/
LOCATION:ENMU-Roswell LRC\, RM 121\, 52 University Blvd\, Roswell\, NM\, 88203\, United States
ORGANIZER;CN="Professional Senate President":MAILTO:roswprofessionalpres@enmu.edu
END:VEVENT
END:VCALENDAR