BEGIN:VCALENDAR
VERSION:2.0
PRODID:-//Eastern New Mexico University - Roswell - ECPv6.15.18//NONSGML v1.0//EN
CALSCALE:GREGORIAN
METHOD:PUBLISH
X-WR-CALNAME:Eastern New Mexico University - Roswell
X-ORIGINAL-URL:https://www.roswell.enmu.edu
X-WR-CALDESC:Events for Eastern New Mexico University - Roswell
REFRESH-INTERVAL;VALUE=DURATION:PT1H
X-Robots-Tag:noindex
X-PUBLISHED-TTL:PT1H
BEGIN:VTIMEZONE
TZID:America/Denver
BEGIN:DAYLIGHT
TZOFFSETFROM:-0700
TZOFFSETTO:-0600
TZNAME:MDT
DTSTART:20240310T090000
END:DAYLIGHT
BEGIN:STANDARD
TZOFFSETFROM:-0600
TZOFFSETTO:-0700
TZNAME:MST
DTSTART:20241103T080000
END:STANDARD
BEGIN:DAYLIGHT
TZOFFSETFROM:-0700
TZOFFSETTO:-0600
TZNAME:MDT
DTSTART:20250309T090000
END:DAYLIGHT
BEGIN:STANDARD
TZOFFSETFROM:-0600
TZOFFSETTO:-0700
TZNAME:MST
DTSTART:20251102T080000
END:STANDARD
BEGIN:DAYLIGHT
TZOFFSETFROM:-0700
TZOFFSETTO:-0600
TZNAME:MDT
DTSTART:20260308T090000
END:DAYLIGHT
BEGIN:STANDARD
TZOFFSETFROM:-0600
TZOFFSETTO:-0700
TZNAME:MST
DTSTART:20261101T080000
END:STANDARD
END:VTIMEZONE
BEGIN:VEVENT
DTSTART;VALUE=DATE:20251027
DTEND;VALUE=DATE:20251101
DTSTAMP:20260419T205206
CREATED:20251022T152625Z
LAST-MODIFIED:20251022T153723Z
UID:10000414-1761523200-1761955199@www.roswell.enmu.edu
SUMMARY:Halloween Spirit Week
DESCRIPTION:Students\, Faculty\, and Staff\,  \n🎃 Get Ready for Spirit Week at ENMU-Roswell! 👻 \nHalloween 2025 is almost here\, and we’re celebrating all week long with themed days\, contests\, and campus fun! \n🧟♀️ Oct. 27 – Monster Monday:\nShow off your inner monster with crazy hair or monster wear! (Keep it appropriate — no fake weapons or masks.) \n🧸 Oct. 28 – Onesies for Funsies:\nGet cozy! Come to campus in your favorite onesie or PJs.( Keep it appropriate and suitable for all audiences.) \n🎃 Oct. 29 – Pumpkin Hunt:\nFind as many pumpkins as you can across campus and turn them in to your school! Faculty\, staff\, and service departments not working under a school\, your jars are in the Administration Building! \n🚪 Oct. 30 – Door Decorating Contest (Campus Schools and Departments):\nWhich department will take the crown for the best door? Don’t forget — door designs are due by noon! \n🕸️ Oct. 31 – Costume Contest:\nBring your best Halloween look (you might win one of the awesome prizes!) and join us in ITC Commons at 10 AM!\n(No fake weapons or masks\, please.) \nLet’s make this the spookiest\, most spirited week yet! 💚🖤🧡
URL:https://www.roswell.enmu.edu/event/2025-halloween-spirit-week/
LOCATION:NM
ATTACH;FMTTYPE=image/webp:https://www.roswell.enmu.edu/wp-content/uploads/2025/10/2025-HALLOWEEN-SPIRIT-WEEK.webp
ORGANIZER;CN="Martha Staab":MAILTO:martha.staab@enmu.edu
END:VEVENT
BEGIN:VEVENT
DTSTART;TZID=America/Denver:20251031T100000
DTEND;TZID=America/Denver:20251031T110000
DTSTAMP:20260419T205206
CREATED:20251022T160147Z
LAST-MODIFIED:20251022T182343Z
UID:10000418-1761904800-1761908400@www.roswell.enmu.edu
SUMMARY:Costume Contest
DESCRIPTION:ENMU-Roswell Halloween Spirit Week presents: Costume Contest \nJoin the Costume Party! Please remember to keep your costume respectful and suitable for all audiences. The judging will take place at 10:00 AM in the Instructional Technology Center (ITC) Commons. Snacks and treats will be available at the judging.
URL:https://www.roswell.enmu.edu/event/2025-halloween-spirit-week-costume-contest/
LOCATION:ENMU-Roswell ITC Commons\, 23 W. Mathis St.\, Roswell\, NM\, 88203\, United States
ATTACH;FMTTYPE=image/webp:https://www.roswell.enmu.edu/wp-content/uploads/2025/10/Costume-Contest.webp
ORGANIZER;CN="Martha Staab":MAILTO:martha.staab@enmu.edu
END:VEVENT
END:VCALENDAR