BEGIN:VCALENDAR
VERSION:2.0
PRODID:-//Eastern New Mexico University - Roswell - ECPv6.15.18//NONSGML v1.0//EN
CALSCALE:GREGORIAN
METHOD:PUBLISH
X-WR-CALNAME:Eastern New Mexico University - Roswell
X-ORIGINAL-URL:https://www.roswell.enmu.edu
X-WR-CALDESC:Events for Eastern New Mexico University - Roswell
REFRESH-INTERVAL;VALUE=DURATION:PT1H
X-Robots-Tag:noindex
X-PUBLISHED-TTL:PT1H
BEGIN:VTIMEZONE
TZID:America/Denver
BEGIN:DAYLIGHT
TZOFFSETFROM:-0700
TZOFFSETTO:-0600
TZNAME:MDT
DTSTART:20240310T090000
END:DAYLIGHT
BEGIN:STANDARD
TZOFFSETFROM:-0600
TZOFFSETTO:-0700
TZNAME:MST
DTSTART:20241103T080000
END:STANDARD
BEGIN:DAYLIGHT
TZOFFSETFROM:-0700
TZOFFSETTO:-0600
TZNAME:MDT
DTSTART:20250309T090000
END:DAYLIGHT
BEGIN:STANDARD
TZOFFSETFROM:-0600
TZOFFSETTO:-0700
TZNAME:MST
DTSTART:20251102T080000
END:STANDARD
BEGIN:DAYLIGHT
TZOFFSETFROM:-0700
TZOFFSETTO:-0600
TZNAME:MDT
DTSTART:20260308T090000
END:DAYLIGHT
BEGIN:STANDARD
TZOFFSETFROM:-0600
TZOFFSETTO:-0700
TZNAME:MST
DTSTART:20261101T080000
END:STANDARD
END:VTIMEZONE
BEGIN:VEVENT
DTSTART;VALUE=DATE:20251027
DTEND;VALUE=DATE:20251101
DTSTAMP:20260419T205208
CREATED:20251022T152625Z
LAST-MODIFIED:20251022T153723Z
UID:10000414-1761523200-1761955199@www.roswell.enmu.edu
SUMMARY:Halloween Spirit Week
DESCRIPTION:Students\, Faculty\, and Staff\,  \n🎃 Get Ready for Spirit Week at ENMU-Roswell! 👻 \nHalloween 2025 is almost here\, and we’re celebrating all week long with themed days\, contests\, and campus fun! \n🧟♀️ Oct. 27 – Monster Monday:\nShow off your inner monster with crazy hair or monster wear! (Keep it appropriate — no fake weapons or masks.) \n🧸 Oct. 28 – Onesies for Funsies:\nGet cozy! Come to campus in your favorite onesie or PJs.( Keep it appropriate and suitable for all audiences.) \n🎃 Oct. 29 – Pumpkin Hunt:\nFind as many pumpkins as you can across campus and turn them in to your school! Faculty\, staff\, and service departments not working under a school\, your jars are in the Administration Building! \n🚪 Oct. 30 – Door Decorating Contest (Campus Schools and Departments):\nWhich department will take the crown for the best door? Don’t forget — door designs are due by noon! \n🕸️ Oct. 31 – Costume Contest:\nBring your best Halloween look (you might win one of the awesome prizes!) and join us in ITC Commons at 10 AM!\n(No fake weapons or masks\, please.) \nLet’s make this the spookiest\, most spirited week yet! 💚🖤🧡
URL:https://www.roswell.enmu.edu/event/2025-halloween-spirit-week/
LOCATION:NM
ATTACH;FMTTYPE=image/webp:https://www.roswell.enmu.edu/wp-content/uploads/2025/10/2025-HALLOWEEN-SPIRIT-WEEK.webp
ORGANIZER;CN="Martha Staab":MAILTO:martha.staab@enmu.edu
END:VEVENT
BEGIN:VEVENT
DTSTART;VALUE=DATE:20251029
DTEND;VALUE=DATE:20251030
DTSTAMP:20260419T205208
CREATED:20251022T153626Z
LAST-MODIFIED:20251022T182216Z
UID:10000416-1761696000-1761782399@www.roswell.enmu.edu
SUMMARY:Pumpkin Hunt
DESCRIPTION:ENMU-Roswell Halloween Spirit Week presents: Pumpkin Hunt \nThink you’ve got what it takes? Find and collect the most pumpkins across campus and turn them in at your designated location to claim bragging rights! \nCOLLECTION POINTS \nARTS AND SCIENCES: Arts and Science building\, Suite 108 \nHEALTH SCIENCE: Health Science building\, Room 103 \nTECHNICAL EDUCATION: Auto Welding building\, Auto Welding Lobby \nFACULTY AND STAFF: Administration Building\, Suite 109
URL:https://www.roswell.enmu.edu/event/2025-halloween-spirit-week-pumpkin-hunt/
LOCATION:NM
ATTACH;FMTTYPE=image/webp:https://www.roswell.enmu.edu/wp-content/uploads/2025/10/Pumpkin-Hunt.webp
ORGANIZER;CN="Martha Staab":MAILTO:martha.staab@enmu.edu
END:VEVENT
BEGIN:VEVENT
DTSTART;TZID=America/Denver:20251029T100000
DTEND;TZID=America/Denver:20251029T110000
DTSTAMP:20260419T205208
CREATED:20251022T212327Z
LAST-MODIFIED:20251022T212327Z
UID:10000420-1761732000-1761735600@www.roswell.enmu.edu
SUMMARY:College Hack: Keyboard Shortcuts
DESCRIPTION:Your shortcut to productivity! \nWhat You’ll Learn \n\nEssential Windows and Mac shortcuts\nTips to work faster in Word\, Excel\, and browsers\nTime-saving tricks for multitasking\nHands-on practice with real examples
URL:https://www.roswell.enmu.edu/event/2025-10-oct-28-29-college-hack-keyboard-shortcuts/2025-10-29/
LOCATION:ENMU-Roswell LRC\, RM 121\, 52 University Blvd\, Roswell\, NM\, 88203\, United States
ATTACH;FMTTYPE=image/webp:https://www.roswell.enmu.edu/wp-content/uploads/2025/10/College-Hack-KBD-Shortcuts-1900-x-1860-px.webp
ORGANIZER;CN="Faith Rue":MAILTO:faith.rue@enmu.edu
END:VEVENT
BEGIN:VEVENT
DTSTART;TZID=America/Denver:20251029T113000
DTEND;TZID=America/Denver:20251029T133000
DTSTAMP:20260419T205208
CREATED:20250930T164319Z
LAST-MODIFIED:20251022T170500Z
UID:10000400-1761737400-1761744600@www.roswell.enmu.edu
SUMMARY:ENMU-Roswell Foundation Banquet
DESCRIPTION:The ENMU-Roswell Foundation is pleased to honor Farmers Country Market and Warren Yehl in this year’s Foundation Banquet luncheon. \nTicket Prices \n$60 USD / person\n$400 USD / table (8 max) \nFarmers Country Market \nFarmers Country Market’s humble beginnings came to life in 1979. Under the guidance of Joe Chumley and his wife BJ Chumley\, the first Farmers Country Market opened on the corner of 2nd and Garden. It was a family-owned business with the freshest produce available coming direct from the west coast and meat shipped from Affiliated Foods much hanging on the rail.The small family business grew over the next few years with the acquisition of the Plains Park Store and the Del Norte Store. Joe was questioned as to why three stores in one community. He responded…we’re home town proud and here to serve the people. The Chumley’s sold the business to the current owner\, Bill Fenn in 2006. Under Bill’s leadership the company has grown expanding to Colorado\, Kansas\, Texas and of course New Mexico with a total of 11 stores. FCM strives to continue serving our communities while supporting the youth through all sports\, 4-H and FFA\, school activities\, NMMI\, ENMU-R and other organizations giving to our veterans\, Senior Olympics\, law enforcement\, special needs groups and many more organizations. Over the years\, second\, third and fourth generations of family members have been employed by Farmers. It’s an honor to be a part of these employees lives and we are deeply grateful for the opportunity to serve all the people who enter our doors. \n \nWarren Yehl \nWarren is currently the Chief Executive Officer of Eastern New Mexico Medical Center with over 16 years of experience in Hospital administration\, previously working in Roswell from 2013-2015 as the Chief Operating Officer and as CEO since 2017. He holds a Bachelor’s Degree in Speech/Communications and a Masters in Healthcare Administration which were both received from Trinity University in San Antonio\, Texas. Warren is the current chairman of the New Mexico Hospital Association helping represent hospitals across New Mexico while serving locally in the following capacities: Boards of the Roswell EDC\, Roswell Symphony Orchestra\, La Casa Healthcare FQHC\, and former United Way chairperson with his wife Barbara (2022). He and his wife Barbara (a native New Mexican) and their four children\, Henry (15) Miriam (13)\, Teegan (10) and Branson (8).
URL:https://www.roswell.enmu.edu/event/2025-fall-enmu-roswell-foundation-banquet/
LOCATION:ENMU-Roswell ITC Commons\, 23 W. Mathis St.\, Roswell\, NM\, 88203\, United States
ATTACH;FMTTYPE=image/webp:https://www.roswell.enmu.edu/wp-content/uploads/2025/09/2025-ENMU-Foundation-Banquet.webp
ORGANIZER;CN="Craig Collins":MAILTO:craig.collins@enmu.edu
END:VEVENT
END:VCALENDAR