BEGIN:VCALENDAR
VERSION:2.0
PRODID:-//Eastern New Mexico University - Roswell - ECPv6.15.18//NONSGML v1.0//EN
CALSCALE:GREGORIAN
METHOD:PUBLISH
X-WR-CALNAME:Eastern New Mexico University - Roswell
X-ORIGINAL-URL:https://www.roswell.enmu.edu
X-WR-CALDESC:Events for Eastern New Mexico University - Roswell
REFRESH-INTERVAL;VALUE=DURATION:PT1H
X-Robots-Tag:noindex
X-PUBLISHED-TTL:PT1H
BEGIN:VTIMEZONE
TZID:America/Denver
BEGIN:DAYLIGHT
TZOFFSETFROM:-0700
TZOFFSETTO:-0600
TZNAME:MDT
DTSTART:20240310T090000
END:DAYLIGHT
BEGIN:STANDARD
TZOFFSETFROM:-0600
TZOFFSETTO:-0700
TZNAME:MST
DTSTART:20241103T080000
END:STANDARD
BEGIN:DAYLIGHT
TZOFFSETFROM:-0700
TZOFFSETTO:-0600
TZNAME:MDT
DTSTART:20250309T090000
END:DAYLIGHT
BEGIN:STANDARD
TZOFFSETFROM:-0600
TZOFFSETTO:-0700
TZNAME:MST
DTSTART:20251102T080000
END:STANDARD
BEGIN:DAYLIGHT
TZOFFSETFROM:-0700
TZOFFSETTO:-0600
TZNAME:MDT
DTSTART:20260308T090000
END:DAYLIGHT
BEGIN:STANDARD
TZOFFSETFROM:-0600
TZOFFSETTO:-0700
TZNAME:MST
DTSTART:20261101T080000
END:STANDARD
END:VTIMEZONE
BEGIN:VEVENT
DTSTART;VALUE=DATE:20251027
DTEND;VALUE=DATE:20251101
DTSTAMP:20260419T205206
CREATED:20251022T152625Z
LAST-MODIFIED:20251022T153723Z
UID:10000414-1761523200-1761955199@www.roswell.enmu.edu
SUMMARY:Halloween Spirit Week
DESCRIPTION:Students\, Faculty\, and Staff\,  \n🎃 Get Ready for Spirit Week at ENMU-Roswell! 👻 \nHalloween 2025 is almost here\, and we’re celebrating all week long with themed days\, contests\, and campus fun! \n🧟♀️ Oct. 27 – Monster Monday:\nShow off your inner monster with crazy hair or monster wear! (Keep it appropriate — no fake weapons or masks.) \n🧸 Oct. 28 – Onesies for Funsies:\nGet cozy! Come to campus in your favorite onesie or PJs.( Keep it appropriate and suitable for all audiences.) \n🎃 Oct. 29 – Pumpkin Hunt:\nFind as many pumpkins as you can across campus and turn them in to your school! Faculty\, staff\, and service departments not working under a school\, your jars are in the Administration Building! \n🚪 Oct. 30 – Door Decorating Contest (Campus Schools and Departments):\nWhich department will take the crown for the best door? Don’t forget — door designs are due by noon! \n🕸️ Oct. 31 – Costume Contest:\nBring your best Halloween look (you might win one of the awesome prizes!) and join us in ITC Commons at 10 AM!\n(No fake weapons or masks\, please.) \nLet’s make this the spookiest\, most spirited week yet! 💚🖤🧡
URL:https://www.roswell.enmu.edu/event/2025-halloween-spirit-week/
LOCATION:NM
ATTACH;FMTTYPE=image/webp:https://www.roswell.enmu.edu/wp-content/uploads/2025/10/2025-HALLOWEEN-SPIRIT-WEEK.webp
ORGANIZER;CN="Martha Staab":MAILTO:martha.staab@enmu.edu
END:VEVENT
BEGIN:VEVENT
DTSTART;VALUE=DATE:20251028
DTEND;VALUE=DATE:20251029
DTSTAMP:20260419T205206
CREATED:20251022T153104Z
LAST-MODIFIED:20251022T182155Z
UID:10000415-1761609600-1761695999@www.roswell.enmu.edu
SUMMARY:Onesies for Funsies
DESCRIPTION:ENMU-Roswell Halloween Spirit Week presents: Onesies for Funsies \nCome in your favorite Onsie or Pajamas. Please remember to keep your attire respectful and suitable for all audiences.
URL:https://www.roswell.enmu.edu/event/2025-halloween-spirit-week-onesies-for-funsies/
LOCATION:NM
ATTACH;FMTTYPE=image/webp:https://www.roswell.enmu.edu/wp-content/uploads/2025/10/Onesies-for-Funsies.webp
ORGANIZER;CN="Martha Staab":MAILTO:martha.staab@enmu.edu
END:VEVENT
BEGIN:VEVENT
DTSTART;TZID=America/Denver:20251028T100000
DTEND;TZID=America/Denver:20251028T110000
DTSTAMP:20260419T205206
CREATED:20251022T212327Z
LAST-MODIFIED:20251022T212327Z
UID:10000419-1761645600-1761649200@www.roswell.enmu.edu
SUMMARY:College Hack: Keyboard Shortcuts
DESCRIPTION:Your shortcut to productivity! \nWhat You’ll Learn \n\nEssential Windows and Mac shortcuts\nTips to work faster in Word\, Excel\, and browsers\nTime-saving tricks for multitasking\nHands-on practice with real examples
URL:https://www.roswell.enmu.edu/event/2025-10-oct-28-29-college-hack-keyboard-shortcuts/2025-10-28/
LOCATION:ENMU-Roswell LRC\, RM 121\, 52 University Blvd\, Roswell\, NM\, 88203\, United States
ATTACH;FMTTYPE=image/webp:https://www.roswell.enmu.edu/wp-content/uploads/2025/10/College-Hack-KBD-Shortcuts-1900-x-1860-px.webp
ORGANIZER;CN="Faith Rue":MAILTO:faith.rue@enmu.edu
END:VEVENT
END:VCALENDAR