BEGIN:VCALENDAR
VERSION:2.0
PRODID:-//Eastern New Mexico University - Roswell - ECPv6.15.18//NONSGML v1.0//EN
CALSCALE:GREGORIAN
METHOD:PUBLISH
X-ORIGINAL-URL:https://www.roswell.enmu.edu
X-WR-CALDESC:Events for Eastern New Mexico University - Roswell
REFRESH-INTERVAL;VALUE=DURATION:PT1H
X-Robots-Tag:noindex
X-PUBLISHED-TTL:PT1H
BEGIN:VTIMEZONE
TZID:America/Denver
BEGIN:DAYLIGHT
TZOFFSETFROM:-0700
TZOFFSETTO:-0600
TZNAME:MDT
DTSTART:20240310T090000
END:DAYLIGHT
BEGIN:STANDARD
TZOFFSETFROM:-0600
TZOFFSETTO:-0700
TZNAME:MST
DTSTART:20241103T080000
END:STANDARD
BEGIN:DAYLIGHT
TZOFFSETFROM:-0700
TZOFFSETTO:-0600
TZNAME:MDT
DTSTART:20250309T090000
END:DAYLIGHT
BEGIN:STANDARD
TZOFFSETFROM:-0600
TZOFFSETTO:-0700
TZNAME:MST
DTSTART:20251102T080000
END:STANDARD
BEGIN:DAYLIGHT
TZOFFSETFROM:-0700
TZOFFSETTO:-0600
TZNAME:MDT
DTSTART:20260308T090000
END:DAYLIGHT
BEGIN:STANDARD
TZOFFSETFROM:-0600
TZOFFSETTO:-0700
TZNAME:MST
DTSTART:20261101T080000
END:STANDARD
END:VTIMEZONE
BEGIN:VEVENT
DTSTART;VALUE=DATE:20251014
DTEND;VALUE=DATE:20251015
DTSTAMP:20260419T221908
CREATED:20250617T163418Z
LAST-MODIFIED:20250617T163418Z
UID:10000324-1760400000-1760486399@www.roswell.enmu.edu
SUMMARY:Add/Drop Classes & Late Registration - Second 8-Week Session
DESCRIPTION:ONE DAY ONLY \nLast and only day to add or drop classes and late registrations for the second 8-week session (Fall 2025)
URL:https://www.roswell.enmu.edu/event/add-drop-classes-late-registration-second-8-week-session/
LOCATION:NM
END:VEVENT
BEGIN:VEVENT
DTSTART;TZID=America/Denver:20251014T120000
DTEND;TZID=America/Denver:20251014T130000
DTSTAMP:20260419T221908
CREATED:20250825T151517Z
LAST-MODIFIED:20250825T160036Z
UID:10000376-1760443200-1760446800@www.roswell.enmu.edu
SUMMARY:Fall 2025 Lunch & Learn: Fraud and Credit with Valley Bank
DESCRIPTION:The ENMU-Roswell Career Center is hosting a series of “Lunch and Learn” events this Fall\, beginning in September. These events are designed to introduce students to different topics to prepare them for success in their careers and in life. RSVP is required if you want to be counted for a free meal. You can reserve your seat by contacting the Career Services Coordinator\, Esmeralda Perez at esmeralda.perez@enmu.edu or by phone at 1 (575) 624-7372. \nSept 2nd: Financial Literacy with ENMU-Roswell Financial Aid\, Kimberly Andazola \nSept 16th: Professional Headshots with Greg Tripp \nOct 14th: Fraud and Credit with Valley Bank \nNov 4th: Business Attire and Interview Skills with Roswell Chamber of Commerce\, Andrea Moore
URL:https://www.roswell.enmu.edu/event/2025-fall-lunch-learn-fraud-and-credit/
LOCATION:NM
ATTACH;FMTTYPE=image/webp:https://www.roswell.enmu.edu/wp-content/uploads/2025/07/Fraud-w-VB-2025-Insta.webp
ORGANIZER;CN="Esmeralda Perez":MAILTO:esmeralda.perez@enmu.edu
END:VEVENT
END:VCALENDAR